BEGIN:VCALENDAR
VERSION:2.0
PRODID:-//Quartieragenda - ECPv5.14.2.1//NONSGML v1.0//EN
CALSCALE:GREGORIAN
METHOD:PUBLISH
X-WR-CALNAME:Quartieragenda
X-ORIGINAL-URL:https://quartieragenda.qv5.ch
X-WR-CALDESC:Events for Quartieragenda
REFRESH-INTERVAL;VALUE=DURATION:PT1H
X-Robots-Tag:noindex
X-PUBLISHED-TTL:PT1H
BEGIN:VTIMEZONE
TZID:Europe/Berlin
BEGIN:DAYLIGHT
TZOFFSETFROM:+0100
TZOFFSETTO:+0200
TZNAME:CEST
DTSTART:20270328T010000
END:DAYLIGHT
BEGIN:STANDARD
TZOFFSETFROM:+0200
TZOFFSETTO:+0100
TZNAME:CET
DTSTART:20271031T010000
END:STANDARD
BEGIN:DAYLIGHT
TZOFFSETFROM:+0100
TZOFFSETTO:+0200
TZNAME:CEST
DTSTART:20280326T010000
END:DAYLIGHT
BEGIN:STANDARD
TZOFFSETFROM:+0200
TZOFFSETTO:+0100
TZNAME:CET
DTSTART:20281029T010000
END:STANDARD
END:VTIMEZONE
BEGIN:VEVENT
DTSTART;TZID=Europe/Berlin:20270831T140000
DTEND;TZID=Europe/Berlin:20270831T180000
DTSTAMP:20260426T024906
CREATED:20240629T143953Z
LAST-MODIFIED:20240629T143953Z
UID:6225-1819720800-1819735200@quartieragenda.qv5.ch
SUMMARY:Gamen in der Bibliothek
DESCRIPTION:Spielt eure Lieblings-Games auf der PlayStation 4 oder der Nintendo Switch in eurer Bibliothek. \nSo funktioniert’s: \nHinterlegt an der Theke einen Ausweis und ihr erhaltet einen Controller.\nIhr könnt auch Games von zu Hause mitbringen\, aber nur bis Altersfreigabe 12.\nDas Gerät hat keine Internetverbindung.\nSpielt fair und wechselt euch ab.
URL:https://quartieragenda.qv5.ch/event/gamen-in-der-bibliothek-2/2027-08-31/
LOCATION:PBZ Pestalozzi-Bibliothek Schütze\, Heinrichstrasse 238\, Zürich\, 8005
CATEGORIES:Kinder und Jugendliche
ORGANIZER;CN="PBZ%20Pestalozzi-Bibliothek%20Sch%C3%BCtze":MAILTO:sz@pbz.ch
END:VEVENT
BEGIN:VEVENT
DTSTART;TZID=Europe/Berlin:20270907T140000
DTEND;TZID=Europe/Berlin:20270907T180000
DTSTAMP:20260426T024906
CREATED:20240629T143953Z
LAST-MODIFIED:20240629T143953Z
UID:6328-1820325600-1820340000@quartieragenda.qv5.ch
SUMMARY:Gamen in der Bibliothek
DESCRIPTION:Spielt eure Lieblings-Games auf der PlayStation 4 oder der Nintendo Switch in eurer Bibliothek. \nSo funktioniert’s: \nHinterlegt an der Theke einen Ausweis und ihr erhaltet einen Controller.\nIhr könnt auch Games von zu Hause mitbringen\, aber nur bis Altersfreigabe 12.\nDas Gerät hat keine Internetverbindung.\nSpielt fair und wechselt euch ab.
URL:https://quartieragenda.qv5.ch/event/gamen-in-der-bibliothek-2/2027-09-07/
LOCATION:PBZ Pestalozzi-Bibliothek Schütze\, Heinrichstrasse 238\, Zürich\, 8005
CATEGORIES:Kinder und Jugendliche
ORGANIZER;CN="PBZ%20Pestalozzi-Bibliothek%20Sch%C3%BCtze":MAILTO:sz@pbz.ch
END:VEVENT
BEGIN:VEVENT
DTSTART;TZID=Europe/Berlin:20270914T140000
DTEND;TZID=Europe/Berlin:20270914T180000
DTSTAMP:20260426T024906
CREATED:20240629T143953Z
LAST-MODIFIED:20240629T143953Z
UID:6373-1820930400-1820944800@quartieragenda.qv5.ch
SUMMARY:Gamen in der Bibliothek
DESCRIPTION:Spielt eure Lieblings-Games auf der PlayStation 4 oder der Nintendo Switch in eurer Bibliothek. \nSo funktioniert’s: \nHinterlegt an der Theke einen Ausweis und ihr erhaltet einen Controller.\nIhr könnt auch Games von zu Hause mitbringen\, aber nur bis Altersfreigabe 12.\nDas Gerät hat keine Internetverbindung.\nSpielt fair und wechselt euch ab.
URL:https://quartieragenda.qv5.ch/event/gamen-in-der-bibliothek-2/2027-09-14/
LOCATION:PBZ Pestalozzi-Bibliothek Schütze\, Heinrichstrasse 238\, Zürich\, 8005
CATEGORIES:Kinder und Jugendliche
ORGANIZER;CN="PBZ%20Pestalozzi-Bibliothek%20Sch%C3%BCtze":MAILTO:sz@pbz.ch
END:VEVENT
BEGIN:VEVENT
DTSTART;TZID=Europe/Berlin:20270921T140000
DTEND;TZID=Europe/Berlin:20270921T180000
DTSTAMP:20260426T024906
CREATED:20240629T143953Z
LAST-MODIFIED:20240629T143953Z
UID:6387-1821535200-1821549600@quartieragenda.qv5.ch
SUMMARY:Gamen in der Bibliothek
DESCRIPTION:Spielt eure Lieblings-Games auf der PlayStation 4 oder der Nintendo Switch in eurer Bibliothek. \nSo funktioniert’s: \nHinterlegt an der Theke einen Ausweis und ihr erhaltet einen Controller.\nIhr könnt auch Games von zu Hause mitbringen\, aber nur bis Altersfreigabe 12.\nDas Gerät hat keine Internetverbindung.\nSpielt fair und wechselt euch ab.
URL:https://quartieragenda.qv5.ch/event/gamen-in-der-bibliothek-2/2027-09-21/
LOCATION:PBZ Pestalozzi-Bibliothek Schütze\, Heinrichstrasse 238\, Zürich\, 8005
CATEGORIES:Kinder und Jugendliche
ORGANIZER;CN="PBZ%20Pestalozzi-Bibliothek%20Sch%C3%BCtze":MAILTO:sz@pbz.ch
END:VEVENT
BEGIN:VEVENT
DTSTART;TZID=Europe/Berlin:20270928T140000
DTEND;TZID=Europe/Berlin:20270928T180000
DTSTAMP:20260426T024906
CREATED:20240629T143953Z
LAST-MODIFIED:20240629T143953Z
UID:6439-1822140000-1822154400@quartieragenda.qv5.ch
SUMMARY:Gamen in der Bibliothek
DESCRIPTION:Spielt eure Lieblings-Games auf der PlayStation 4 oder der Nintendo Switch in eurer Bibliothek. \nSo funktioniert’s: \nHinterlegt an der Theke einen Ausweis und ihr erhaltet einen Controller.\nIhr könnt auch Games von zu Hause mitbringen\, aber nur bis Altersfreigabe 12.\nDas Gerät hat keine Internetverbindung.\nSpielt fair und wechselt euch ab.
URL:https://quartieragenda.qv5.ch/event/gamen-in-der-bibliothek-2/2027-09-28/
LOCATION:PBZ Pestalozzi-Bibliothek Schütze\, Heinrichstrasse 238\, Zürich\, 8005
CATEGORIES:Kinder und Jugendliche
ORGANIZER;CN="PBZ%20Pestalozzi-Bibliothek%20Sch%C3%BCtze":MAILTO:sz@pbz.ch
END:VEVENT
BEGIN:VEVENT
DTSTART;TZID=Europe/Berlin:20271005T140000
DTEND;TZID=Europe/Berlin:20271005T180000
DTSTAMP:20260426T024906
CREATED:20240629T143953Z
LAST-MODIFIED:20240629T143953Z
UID:6480-1822744800-1822759200@quartieragenda.qv5.ch
SUMMARY:Gamen in der Bibliothek
DESCRIPTION:Spielt eure Lieblings-Games auf der PlayStation 4 oder der Nintendo Switch in eurer Bibliothek. \nSo funktioniert’s: \nHinterlegt an der Theke einen Ausweis und ihr erhaltet einen Controller.\nIhr könnt auch Games von zu Hause mitbringen\, aber nur bis Altersfreigabe 12.\nDas Gerät hat keine Internetverbindung.\nSpielt fair und wechselt euch ab.
URL:https://quartieragenda.qv5.ch/event/gamen-in-der-bibliothek-2/2027-10-05/
LOCATION:PBZ Pestalozzi-Bibliothek Schütze\, Heinrichstrasse 238\, Zürich\, 8005
CATEGORIES:Kinder und Jugendliche
ORGANIZER;CN="PBZ%20Pestalozzi-Bibliothek%20Sch%C3%BCtze":MAILTO:sz@pbz.ch
END:VEVENT
BEGIN:VEVENT
DTSTART;TZID=Europe/Berlin:20271012T140000
DTEND;TZID=Europe/Berlin:20271012T180000
DTSTAMP:20260426T024906
CREATED:20240629T143953Z
LAST-MODIFIED:20240629T143953Z
UID:6564-1823349600-1823364000@quartieragenda.qv5.ch
SUMMARY:Gamen in der Bibliothek
DESCRIPTION:Spielt eure Lieblings-Games auf der PlayStation 4 oder der Nintendo Switch in eurer Bibliothek. \nSo funktioniert’s: \nHinterlegt an der Theke einen Ausweis und ihr erhaltet einen Controller.\nIhr könnt auch Games von zu Hause mitbringen\, aber nur bis Altersfreigabe 12.\nDas Gerät hat keine Internetverbindung.\nSpielt fair und wechselt euch ab.
URL:https://quartieragenda.qv5.ch/event/gamen-in-der-bibliothek-2/2027-10-12/
LOCATION:PBZ Pestalozzi-Bibliothek Schütze\, Heinrichstrasse 238\, Zürich\, 8005
CATEGORIES:Kinder und Jugendliche
ORGANIZER;CN="PBZ%20Pestalozzi-Bibliothek%20Sch%C3%BCtze":MAILTO:sz@pbz.ch
END:VEVENT
BEGIN:VEVENT
DTSTART;TZID=Europe/Berlin:20271019T140000
DTEND;TZID=Europe/Berlin:20271019T180000
DTSTAMP:20260426T024906
CREATED:20240629T143953Z
LAST-MODIFIED:20240629T143953Z
UID:6587-1823954400-1823968800@quartieragenda.qv5.ch
SUMMARY:Gamen in der Bibliothek
DESCRIPTION:Spielt eure Lieblings-Games auf der PlayStation 4 oder der Nintendo Switch in eurer Bibliothek. \nSo funktioniert’s: \nHinterlegt an der Theke einen Ausweis und ihr erhaltet einen Controller.\nIhr könnt auch Games von zu Hause mitbringen\, aber nur bis Altersfreigabe 12.\nDas Gerät hat keine Internetverbindung.\nSpielt fair und wechselt euch ab.
URL:https://quartieragenda.qv5.ch/event/gamen-in-der-bibliothek-2/2027-10-19/
LOCATION:PBZ Pestalozzi-Bibliothek Schütze\, Heinrichstrasse 238\, Zürich\, 8005
CATEGORIES:Kinder und Jugendliche
ORGANIZER;CN="PBZ%20Pestalozzi-Bibliothek%20Sch%C3%BCtze":MAILTO:sz@pbz.ch
END:VEVENT
BEGIN:VEVENT
DTSTART;TZID=Europe/Berlin:20271026T140000
DTEND;TZID=Europe/Berlin:20271026T180000
DTSTAMP:20260426T024906
CREATED:20240629T143953Z
LAST-MODIFIED:20240629T143953Z
UID:6607-1824559200-1824573600@quartieragenda.qv5.ch
SUMMARY:Gamen in der Bibliothek
DESCRIPTION:Spielt eure Lieblings-Games auf der PlayStation 4 oder der Nintendo Switch in eurer Bibliothek. \nSo funktioniert’s: \nHinterlegt an der Theke einen Ausweis und ihr erhaltet einen Controller.\nIhr könnt auch Games von zu Hause mitbringen\, aber nur bis Altersfreigabe 12.\nDas Gerät hat keine Internetverbindung.\nSpielt fair und wechselt euch ab.
URL:https://quartieragenda.qv5.ch/event/gamen-in-der-bibliothek-2/2027-10-26/
LOCATION:PBZ Pestalozzi-Bibliothek Schütze\, Heinrichstrasse 238\, Zürich\, 8005
CATEGORIES:Kinder und Jugendliche
ORGANIZER;CN="PBZ%20Pestalozzi-Bibliothek%20Sch%C3%BCtze":MAILTO:sz@pbz.ch
END:VEVENT
BEGIN:VEVENT
DTSTART;TZID=Europe/Berlin:20271102T140000
DTEND;TZID=Europe/Berlin:20271102T180000
DTSTAMP:20260426T024906
CREATED:20240629T143953Z
LAST-MODIFIED:20240629T143953Z
UID:6629-1825164000-1825178400@quartieragenda.qv5.ch
SUMMARY:Gamen in der Bibliothek
DESCRIPTION:Spielt eure Lieblings-Games auf der PlayStation 4 oder der Nintendo Switch in eurer Bibliothek. \nSo funktioniert’s: \nHinterlegt an der Theke einen Ausweis und ihr erhaltet einen Controller.\nIhr könnt auch Games von zu Hause mitbringen\, aber nur bis Altersfreigabe 12.\nDas Gerät hat keine Internetverbindung.\nSpielt fair und wechselt euch ab.
URL:https://quartieragenda.qv5.ch/event/gamen-in-der-bibliothek-2/2027-11-02/
LOCATION:PBZ Pestalozzi-Bibliothek Schütze\, Heinrichstrasse 238\, Zürich\, 8005
CATEGORIES:Kinder und Jugendliche
ORGANIZER;CN="PBZ%20Pestalozzi-Bibliothek%20Sch%C3%BCtze":MAILTO:sz@pbz.ch
END:VEVENT
BEGIN:VEVENT
DTSTART;TZID=Europe/Berlin:20271109T140000
DTEND;TZID=Europe/Berlin:20271109T180000
DTSTAMP:20260426T024906
CREATED:20240629T143953Z
LAST-MODIFIED:20240629T143953Z
UID:6684-1825768800-1825783200@quartieragenda.qv5.ch
SUMMARY:Gamen in der Bibliothek
DESCRIPTION:Spielt eure Lieblings-Games auf der PlayStation 4 oder der Nintendo Switch in eurer Bibliothek. \nSo funktioniert’s: \nHinterlegt an der Theke einen Ausweis und ihr erhaltet einen Controller.\nIhr könnt auch Games von zu Hause mitbringen\, aber nur bis Altersfreigabe 12.\nDas Gerät hat keine Internetverbindung.\nSpielt fair und wechselt euch ab.
URL:https://quartieragenda.qv5.ch/event/gamen-in-der-bibliothek-2/2027-11-09/
LOCATION:PBZ Pestalozzi-Bibliothek Schütze\, Heinrichstrasse 238\, Zürich\, 8005
CATEGORIES:Kinder und Jugendliche
ORGANIZER;CN="PBZ%20Pestalozzi-Bibliothek%20Sch%C3%BCtze":MAILTO:sz@pbz.ch
END:VEVENT
BEGIN:VEVENT
DTSTART;TZID=Europe/Berlin:20271116T140000
DTEND;TZID=Europe/Berlin:20271116T180000
DTSTAMP:20260426T024906
CREATED:20240629T143953Z
LAST-MODIFIED:20240629T143953Z
UID:6717-1826373600-1826388000@quartieragenda.qv5.ch
SUMMARY:Gamen in der Bibliothek
DESCRIPTION:Spielt eure Lieblings-Games auf der PlayStation 4 oder der Nintendo Switch in eurer Bibliothek. \nSo funktioniert’s: \nHinterlegt an der Theke einen Ausweis und ihr erhaltet einen Controller.\nIhr könnt auch Games von zu Hause mitbringen\, aber nur bis Altersfreigabe 12.\nDas Gerät hat keine Internetverbindung.\nSpielt fair und wechselt euch ab.
URL:https://quartieragenda.qv5.ch/event/gamen-in-der-bibliothek-2/2027-11-16/
LOCATION:PBZ Pestalozzi-Bibliothek Schütze\, Heinrichstrasse 238\, Zürich\, 8005
CATEGORIES:Kinder und Jugendliche
ORGANIZER;CN="PBZ%20Pestalozzi-Bibliothek%20Sch%C3%BCtze":MAILTO:sz@pbz.ch
END:VEVENT
BEGIN:VEVENT
DTSTART;TZID=Europe/Berlin:20271123T140000
DTEND;TZID=Europe/Berlin:20271123T180000
DTSTAMP:20260426T024906
CREATED:20240629T143953Z
LAST-MODIFIED:20240629T143953Z
UID:6729-1826978400-1826992800@quartieragenda.qv5.ch
SUMMARY:Gamen in der Bibliothek
DESCRIPTION:Spielt eure Lieblings-Games auf der PlayStation 4 oder der Nintendo Switch in eurer Bibliothek. \nSo funktioniert’s: \nHinterlegt an der Theke einen Ausweis und ihr erhaltet einen Controller.\nIhr könnt auch Games von zu Hause mitbringen\, aber nur bis Altersfreigabe 12.\nDas Gerät hat keine Internetverbindung.\nSpielt fair und wechselt euch ab.
URL:https://quartieragenda.qv5.ch/event/gamen-in-der-bibliothek-2/2027-11-23/
LOCATION:PBZ Pestalozzi-Bibliothek Schütze\, Heinrichstrasse 238\, Zürich\, 8005
CATEGORIES:Kinder und Jugendliche
ORGANIZER;CN="PBZ%20Pestalozzi-Bibliothek%20Sch%C3%BCtze":MAILTO:sz@pbz.ch
END:VEVENT
BEGIN:VEVENT
DTSTART;TZID=Europe/Berlin:20271130T140000
DTEND;TZID=Europe/Berlin:20271130T180000
DTSTAMP:20260426T024906
CREATED:20240629T143953Z
LAST-MODIFIED:20240629T143953Z
UID:6785-1827583200-1827597600@quartieragenda.qv5.ch
SUMMARY:Gamen in der Bibliothek
DESCRIPTION:Spielt eure Lieblings-Games auf der PlayStation 4 oder der Nintendo Switch in eurer Bibliothek. \nSo funktioniert’s: \nHinterlegt an der Theke einen Ausweis und ihr erhaltet einen Controller.\nIhr könnt auch Games von zu Hause mitbringen\, aber nur bis Altersfreigabe 12.\nDas Gerät hat keine Internetverbindung.\nSpielt fair und wechselt euch ab.
URL:https://quartieragenda.qv5.ch/event/gamen-in-der-bibliothek-2/2027-11-30/
LOCATION:PBZ Pestalozzi-Bibliothek Schütze\, Heinrichstrasse 238\, Zürich\, 8005
CATEGORIES:Kinder und Jugendliche
ORGANIZER;CN="PBZ%20Pestalozzi-Bibliothek%20Sch%C3%BCtze":MAILTO:sz@pbz.ch
END:VEVENT
BEGIN:VEVENT
DTSTART;TZID=Europe/Berlin:20271207T140000
DTEND;TZID=Europe/Berlin:20271207T180000
DTSTAMP:20260426T024906
CREATED:20240629T143953Z
LAST-MODIFIED:20240629T143953Z
UID:6800-1828188000-1828202400@quartieragenda.qv5.ch
SUMMARY:Gamen in der Bibliothek
DESCRIPTION:Spielt eure Lieblings-Games auf der PlayStation 4 oder der Nintendo Switch in eurer Bibliothek. \nSo funktioniert’s: \nHinterlegt an der Theke einen Ausweis und ihr erhaltet einen Controller.\nIhr könnt auch Games von zu Hause mitbringen\, aber nur bis Altersfreigabe 12.\nDas Gerät hat keine Internetverbindung.\nSpielt fair und wechselt euch ab.
URL:https://quartieragenda.qv5.ch/event/gamen-in-der-bibliothek-2/2027-12-07/
LOCATION:PBZ Pestalozzi-Bibliothek Schütze\, Heinrichstrasse 238\, Zürich\, 8005
CATEGORIES:Kinder und Jugendliche
ORGANIZER;CN="PBZ%20Pestalozzi-Bibliothek%20Sch%C3%BCtze":MAILTO:sz@pbz.ch
END:VEVENT
BEGIN:VEVENT
DTSTART;TZID=Europe/Berlin:20271214T140000
DTEND;TZID=Europe/Berlin:20271214T180000
DTSTAMP:20260426T024906
CREATED:20240629T143953Z
LAST-MODIFIED:20240629T143953Z
UID:6902-1828792800-1828807200@quartieragenda.qv5.ch
SUMMARY:Gamen in der Bibliothek
DESCRIPTION:Spielt eure Lieblings-Games auf der PlayStation 4 oder der Nintendo Switch in eurer Bibliothek. \nSo funktioniert’s: \nHinterlegt an der Theke einen Ausweis und ihr erhaltet einen Controller.\nIhr könnt auch Games von zu Hause mitbringen\, aber nur bis Altersfreigabe 12.\nDas Gerät hat keine Internetverbindung.\nSpielt fair und wechselt euch ab.
URL:https://quartieragenda.qv5.ch/event/gamen-in-der-bibliothek-2/2027-12-14/
LOCATION:PBZ Pestalozzi-Bibliothek Schütze\, Heinrichstrasse 238\, Zürich\, 8005
CATEGORIES:Kinder und Jugendliche
ORGANIZER;CN="PBZ%20Pestalozzi-Bibliothek%20Sch%C3%BCtze":MAILTO:sz@pbz.ch
END:VEVENT
BEGIN:VEVENT
DTSTART;TZID=Europe/Berlin:20271221T140000
DTEND;TZID=Europe/Berlin:20271221T180000
DTSTAMP:20260426T024906
CREATED:20240629T143953Z
LAST-MODIFIED:20240629T143953Z
UID:6970-1829397600-1829412000@quartieragenda.qv5.ch
SUMMARY:Gamen in der Bibliothek
DESCRIPTION:Spielt eure Lieblings-Games auf der PlayStation 4 oder der Nintendo Switch in eurer Bibliothek. \nSo funktioniert’s: \nHinterlegt an der Theke einen Ausweis und ihr erhaltet einen Controller.\nIhr könnt auch Games von zu Hause mitbringen\, aber nur bis Altersfreigabe 12.\nDas Gerät hat keine Internetverbindung.\nSpielt fair und wechselt euch ab.
URL:https://quartieragenda.qv5.ch/event/gamen-in-der-bibliothek-2/2027-12-21/
LOCATION:PBZ Pestalozzi-Bibliothek Schütze\, Heinrichstrasse 238\, Zürich\, 8005
CATEGORIES:Kinder und Jugendliche
ORGANIZER;CN="PBZ%20Pestalozzi-Bibliothek%20Sch%C3%BCtze":MAILTO:sz@pbz.ch
END:VEVENT
BEGIN:VEVENT
DTSTART;TZID=Europe/Berlin:20271228T140000
DTEND;TZID=Europe/Berlin:20271228T180000
DTSTAMP:20260426T024906
CREATED:20240629T143953Z
LAST-MODIFIED:20240629T143953Z
UID:6974-1830002400-1830016800@quartieragenda.qv5.ch
SUMMARY:Gamen in der Bibliothek
DESCRIPTION:Spielt eure Lieblings-Games auf der PlayStation 4 oder der Nintendo Switch in eurer Bibliothek. \nSo funktioniert’s: \nHinterlegt an der Theke einen Ausweis und ihr erhaltet einen Controller.\nIhr könnt auch Games von zu Hause mitbringen\, aber nur bis Altersfreigabe 12.\nDas Gerät hat keine Internetverbindung.\nSpielt fair und wechselt euch ab.
URL:https://quartieragenda.qv5.ch/event/gamen-in-der-bibliothek-2/2027-12-28/
LOCATION:PBZ Pestalozzi-Bibliothek Schütze\, Heinrichstrasse 238\, Zürich\, 8005
CATEGORIES:Kinder und Jugendliche
ORGANIZER;CN="PBZ%20Pestalozzi-Bibliothek%20Sch%C3%BCtze":MAILTO:sz@pbz.ch
END:VEVENT
BEGIN:VEVENT
DTSTART;TZID=Europe/Berlin:20280104T140000
DTEND;TZID=Europe/Berlin:20280104T180000
DTSTAMP:20260426T024906
CREATED:20240629T143953Z
LAST-MODIFIED:20240629T143953Z
UID:6979-1830607200-1830621600@quartieragenda.qv5.ch
SUMMARY:Gamen in der Bibliothek
DESCRIPTION:Spielt eure Lieblings-Games auf der PlayStation 4 oder der Nintendo Switch in eurer Bibliothek. \nSo funktioniert’s: \nHinterlegt an der Theke einen Ausweis und ihr erhaltet einen Controller.\nIhr könnt auch Games von zu Hause mitbringen\, aber nur bis Altersfreigabe 12.\nDas Gerät hat keine Internetverbindung.\nSpielt fair und wechselt euch ab.
URL:https://quartieragenda.qv5.ch/event/gamen-in-der-bibliothek-2/2028-01-04/
LOCATION:PBZ Pestalozzi-Bibliothek Schütze\, Heinrichstrasse 238\, Zürich\, 8005
CATEGORIES:Kinder und Jugendliche
ORGANIZER;CN="PBZ%20Pestalozzi-Bibliothek%20Sch%C3%BCtze":MAILTO:sz@pbz.ch
END:VEVENT
BEGIN:VEVENT
DTSTART;TZID=Europe/Berlin:20280111T140000
DTEND;TZID=Europe/Berlin:20280111T180000
DTSTAMP:20260426T024906
CREATED:20240629T143953Z
LAST-MODIFIED:20240629T143953Z
UID:7028-1831212000-1831226400@quartieragenda.qv5.ch
SUMMARY:Gamen in der Bibliothek
DESCRIPTION:Spielt eure Lieblings-Games auf der PlayStation 4 oder der Nintendo Switch in eurer Bibliothek. \nSo funktioniert’s: \nHinterlegt an der Theke einen Ausweis und ihr erhaltet einen Controller.\nIhr könnt auch Games von zu Hause mitbringen\, aber nur bis Altersfreigabe 12.\nDas Gerät hat keine Internetverbindung.\nSpielt fair und wechselt euch ab.
URL:https://quartieragenda.qv5.ch/event/gamen-in-der-bibliothek-2/2028-01-11/
LOCATION:PBZ Pestalozzi-Bibliothek Schütze\, Heinrichstrasse 238\, Zürich\, 8005
CATEGORIES:Kinder und Jugendliche
ORGANIZER;CN="PBZ%20Pestalozzi-Bibliothek%20Sch%C3%BCtze":MAILTO:sz@pbz.ch
END:VEVENT
BEGIN:VEVENT
DTSTART;TZID=Europe/Berlin:20280118T140000
DTEND;TZID=Europe/Berlin:20280118T180000
DTSTAMP:20260426T024906
CREATED:20240629T143953Z
LAST-MODIFIED:20240629T143953Z
UID:7073-1831816800-1831831200@quartieragenda.qv5.ch
SUMMARY:Gamen in der Bibliothek
DESCRIPTION:Spielt eure Lieblings-Games auf der PlayStation 4 oder der Nintendo Switch in eurer Bibliothek. \nSo funktioniert’s: \nHinterlegt an der Theke einen Ausweis und ihr erhaltet einen Controller.\nIhr könnt auch Games von zu Hause mitbringen\, aber nur bis Altersfreigabe 12.\nDas Gerät hat keine Internetverbindung.\nSpielt fair und wechselt euch ab.
URL:https://quartieragenda.qv5.ch/event/gamen-in-der-bibliothek-2/2028-01-18/
LOCATION:PBZ Pestalozzi-Bibliothek Schütze\, Heinrichstrasse 238\, Zürich\, 8005
CATEGORIES:Kinder und Jugendliche
ORGANIZER;CN="PBZ%20Pestalozzi-Bibliothek%20Sch%C3%BCtze":MAILTO:sz@pbz.ch
END:VEVENT
BEGIN:VEVENT
DTSTART;TZID=Europe/Berlin:20280125T140000
DTEND;TZID=Europe/Berlin:20280125T180000
DTSTAMP:20260426T024906
CREATED:20240629T143953Z
LAST-MODIFIED:20240629T143953Z
UID:7172-1832421600-1832436000@quartieragenda.qv5.ch
SUMMARY:Gamen in der Bibliothek
DESCRIPTION:Spielt eure Lieblings-Games auf der PlayStation 4 oder der Nintendo Switch in eurer Bibliothek. \nSo funktioniert’s: \nHinterlegt an der Theke einen Ausweis und ihr erhaltet einen Controller.\nIhr könnt auch Games von zu Hause mitbringen\, aber nur bis Altersfreigabe 12.\nDas Gerät hat keine Internetverbindung.\nSpielt fair und wechselt euch ab.
URL:https://quartieragenda.qv5.ch/event/gamen-in-der-bibliothek-2/2028-01-25/
LOCATION:PBZ Pestalozzi-Bibliothek Schütze\, Heinrichstrasse 238\, Zürich\, 8005
CATEGORIES:Kinder und Jugendliche
ORGANIZER;CN="PBZ%20Pestalozzi-Bibliothek%20Sch%C3%BCtze":MAILTO:sz@pbz.ch
END:VEVENT
BEGIN:VEVENT
DTSTART;TZID=Europe/Berlin:20280201T140000
DTEND;TZID=Europe/Berlin:20280201T180000
DTSTAMP:20260426T024906
CREATED:20240629T143953Z
LAST-MODIFIED:20240629T143953Z
UID:7271-1833026400-1833040800@quartieragenda.qv5.ch
SUMMARY:Gamen in der Bibliothek
DESCRIPTION:Spielt eure Lieblings-Games auf der PlayStation 4 oder der Nintendo Switch in eurer Bibliothek. \nSo funktioniert’s: \nHinterlegt an der Theke einen Ausweis und ihr erhaltet einen Controller.\nIhr könnt auch Games von zu Hause mitbringen\, aber nur bis Altersfreigabe 12.\nDas Gerät hat keine Internetverbindung.\nSpielt fair und wechselt euch ab.
URL:https://quartieragenda.qv5.ch/event/gamen-in-der-bibliothek-2/2028-02-01/
LOCATION:PBZ Pestalozzi-Bibliothek Schütze\, Heinrichstrasse 238\, Zürich\, 8005
CATEGORIES:Kinder und Jugendliche
ORGANIZER;CN="PBZ%20Pestalozzi-Bibliothek%20Sch%C3%BCtze":MAILTO:sz@pbz.ch
END:VEVENT
BEGIN:VEVENT
DTSTART;TZID=Europe/Berlin:20280208T140000
DTEND;TZID=Europe/Berlin:20280208T180000
DTSTAMP:20260426T024906
CREATED:20240629T143953Z
LAST-MODIFIED:20240629T143953Z
UID:7303-1833631200-1833645600@quartieragenda.qv5.ch
SUMMARY:Gamen in der Bibliothek
DESCRIPTION:Spielt eure Lieblings-Games auf der PlayStation 4 oder der Nintendo Switch in eurer Bibliothek. \nSo funktioniert’s: \nHinterlegt an der Theke einen Ausweis und ihr erhaltet einen Controller.\nIhr könnt auch Games von zu Hause mitbringen\, aber nur bis Altersfreigabe 12.\nDas Gerät hat keine Internetverbindung.\nSpielt fair und wechselt euch ab.
URL:https://quartieragenda.qv5.ch/event/gamen-in-der-bibliothek-2/2028-02-08/
LOCATION:PBZ Pestalozzi-Bibliothek Schütze\, Heinrichstrasse 238\, Zürich\, 8005
CATEGORIES:Kinder und Jugendliche
ORGANIZER;CN="PBZ%20Pestalozzi-Bibliothek%20Sch%C3%BCtze":MAILTO:sz@pbz.ch
END:VEVENT
BEGIN:VEVENT
DTSTART;TZID=Europe/Berlin:20280215T140000
DTEND;TZID=Europe/Berlin:20280215T180000
DTSTAMP:20260426T024906
CREATED:20240629T143953Z
LAST-MODIFIED:20240629T143953Z
UID:7318-1834236000-1834250400@quartieragenda.qv5.ch
SUMMARY:Gamen in der Bibliothek
DESCRIPTION:Spielt eure Lieblings-Games auf der PlayStation 4 oder der Nintendo Switch in eurer Bibliothek. \nSo funktioniert’s: \nHinterlegt an der Theke einen Ausweis und ihr erhaltet einen Controller.\nIhr könnt auch Games von zu Hause mitbringen\, aber nur bis Altersfreigabe 12.\nDas Gerät hat keine Internetverbindung.\nSpielt fair und wechselt euch ab.
URL:https://quartieragenda.qv5.ch/event/gamen-in-der-bibliothek-2/2028-02-15/
LOCATION:PBZ Pestalozzi-Bibliothek Schütze\, Heinrichstrasse 238\, Zürich\, 8005
CATEGORIES:Kinder und Jugendliche
ORGANIZER;CN="PBZ%20Pestalozzi-Bibliothek%20Sch%C3%BCtze":MAILTO:sz@pbz.ch
END:VEVENT
BEGIN:VEVENT
DTSTART;TZID=Europe/Berlin:20280222T140000
DTEND;TZID=Europe/Berlin:20280222T180000
DTSTAMP:20260426T024906
CREATED:20240629T143953Z
LAST-MODIFIED:20240629T143953Z
UID:7399-1834840800-1834855200@quartieragenda.qv5.ch
SUMMARY:Gamen in der Bibliothek
DESCRIPTION:Spielt eure Lieblings-Games auf der PlayStation 4 oder der Nintendo Switch in eurer Bibliothek. \nSo funktioniert’s: \nHinterlegt an der Theke einen Ausweis und ihr erhaltet einen Controller.\nIhr könnt auch Games von zu Hause mitbringen\, aber nur bis Altersfreigabe 12.\nDas Gerät hat keine Internetverbindung.\nSpielt fair und wechselt euch ab.
URL:https://quartieragenda.qv5.ch/event/gamen-in-der-bibliothek-2/2028-02-22/
LOCATION:PBZ Pestalozzi-Bibliothek Schütze\, Heinrichstrasse 238\, Zürich\, 8005
CATEGORIES:Kinder und Jugendliche
ORGANIZER;CN="PBZ%20Pestalozzi-Bibliothek%20Sch%C3%BCtze":MAILTO:sz@pbz.ch
END:VEVENT
BEGIN:VEVENT
DTSTART;TZID=Europe/Berlin:20280229T140000
DTEND;TZID=Europe/Berlin:20280229T180000
DTSTAMP:20260426T024906
CREATED:20240629T143953Z
LAST-MODIFIED:20240629T143953Z
UID:7407-1835445600-1835460000@quartieragenda.qv5.ch
SUMMARY:Gamen in der Bibliothek
DESCRIPTION:Spielt eure Lieblings-Games auf der PlayStation 4 oder der Nintendo Switch in eurer Bibliothek. \nSo funktioniert’s: \nHinterlegt an der Theke einen Ausweis und ihr erhaltet einen Controller.\nIhr könnt auch Games von zu Hause mitbringen\, aber nur bis Altersfreigabe 12.\nDas Gerät hat keine Internetverbindung.\nSpielt fair und wechselt euch ab.
URL:https://quartieragenda.qv5.ch/event/gamen-in-der-bibliothek-2/2028-02-29/
LOCATION:PBZ Pestalozzi-Bibliothek Schütze\, Heinrichstrasse 238\, Zürich\, 8005
CATEGORIES:Kinder und Jugendliche
ORGANIZER;CN="PBZ%20Pestalozzi-Bibliothek%20Sch%C3%BCtze":MAILTO:sz@pbz.ch
END:VEVENT
BEGIN:VEVENT
DTSTART;TZID=Europe/Berlin:20280307T140000
DTEND;TZID=Europe/Berlin:20280307T180000
DTSTAMP:20260426T024906
CREATED:20240629T143953Z
LAST-MODIFIED:20240629T143953Z
UID:7455-1836050400-1836064800@quartieragenda.qv5.ch
SUMMARY:Gamen in der Bibliothek
DESCRIPTION:Spielt eure Lieblings-Games auf der PlayStation 4 oder der Nintendo Switch in eurer Bibliothek. \nSo funktioniert’s: \nHinterlegt an der Theke einen Ausweis und ihr erhaltet einen Controller.\nIhr könnt auch Games von zu Hause mitbringen\, aber nur bis Altersfreigabe 12.\nDas Gerät hat keine Internetverbindung.\nSpielt fair und wechselt euch ab.
URL:https://quartieragenda.qv5.ch/event/gamen-in-der-bibliothek-2/2028-03-07/
LOCATION:PBZ Pestalozzi-Bibliothek Schütze\, Heinrichstrasse 238\, Zürich\, 8005
CATEGORIES:Kinder und Jugendliche
ORGANIZER;CN="PBZ%20Pestalozzi-Bibliothek%20Sch%C3%BCtze":MAILTO:sz@pbz.ch
END:VEVENT
BEGIN:VEVENT
DTSTART;TZID=Europe/Berlin:20280314T140000
DTEND;TZID=Europe/Berlin:20280314T180000
DTSTAMP:20260426T024906
CREATED:20240629T143953Z
LAST-MODIFIED:20240629T143953Z
UID:7513-1836655200-1836669600@quartieragenda.qv5.ch
SUMMARY:Gamen in der Bibliothek
DESCRIPTION:Spielt eure Lieblings-Games auf der PlayStation 4 oder der Nintendo Switch in eurer Bibliothek. \nSo funktioniert’s: \nHinterlegt an der Theke einen Ausweis und ihr erhaltet einen Controller.\nIhr könnt auch Games von zu Hause mitbringen\, aber nur bis Altersfreigabe 12.\nDas Gerät hat keine Internetverbindung.\nSpielt fair und wechselt euch ab.
URL:https://quartieragenda.qv5.ch/event/gamen-in-der-bibliothek-2/2028-03-14/
LOCATION:PBZ Pestalozzi-Bibliothek Schütze\, Heinrichstrasse 238\, Zürich\, 8005
CATEGORIES:Kinder und Jugendliche
ORGANIZER;CN="PBZ%20Pestalozzi-Bibliothek%20Sch%C3%BCtze":MAILTO:sz@pbz.ch
END:VEVENT
BEGIN:VEVENT
DTSTART;TZID=Europe/Berlin:20280321T140000
DTEND;TZID=Europe/Berlin:20280321T180000
DTSTAMP:20260426T024906
CREATED:20240629T143953Z
LAST-MODIFIED:20240629T143953Z
UID:7519-1837260000-1837274400@quartieragenda.qv5.ch
SUMMARY:Gamen in der Bibliothek
DESCRIPTION:Spielt eure Lieblings-Games auf der PlayStation 4 oder der Nintendo Switch in eurer Bibliothek. \nSo funktioniert’s: \nHinterlegt an der Theke einen Ausweis und ihr erhaltet einen Controller.\nIhr könnt auch Games von zu Hause mitbringen\, aber nur bis Altersfreigabe 12.\nDas Gerät hat keine Internetverbindung.\nSpielt fair und wechselt euch ab.
URL:https://quartieragenda.qv5.ch/event/gamen-in-der-bibliothek-2/2028-03-21/
LOCATION:PBZ Pestalozzi-Bibliothek Schütze\, Heinrichstrasse 238\, Zürich\, 8005
CATEGORIES:Kinder und Jugendliche
ORGANIZER;CN="PBZ%20Pestalozzi-Bibliothek%20Sch%C3%BCtze":MAILTO:sz@pbz.ch
END:VEVENT
END:VCALENDAR