BEGIN:VCALENDAR
VERSION:2.0
PRODID:-//Quartieragenda - ECPv5.14.2.1//NONSGML v1.0//EN
CALSCALE:GREGORIAN
METHOD:PUBLISH
X-WR-CALNAME:Quartieragenda
X-ORIGINAL-URL:https://quartieragenda.qv5.ch
X-WR-CALDESC:Events for Quartieragenda
REFRESH-INTERVAL;VALUE=DURATION:PT1H
X-Robots-Tag:noindex
X-PUBLISHED-TTL:PT1H
BEGIN:VTIMEZONE
TZID:Europe/Berlin
BEGIN:DAYLIGHT
TZOFFSETFROM:+0100
TZOFFSETTO:+0200
TZNAME:CEST
DTSTART:20260329T010000
END:DAYLIGHT
BEGIN:STANDARD
TZOFFSETFROM:+0200
TZOFFSETTO:+0100
TZNAME:CET
DTSTART:20261025T010000
END:STANDARD
END:VTIMEZONE
BEGIN:VEVENT
DTSTART;TZID=Europe/Berlin:20260226T193000
DTEND;TZID=Europe/Berlin:20260226T211500
DTSTAMP:20260425T035931
CREATED:20260220T134956Z
LAST-MODIFIED:20260220T134956Z
UID:7392-1772134200-1772140500@quartieragenda.qv5.ch
SUMMARY:Chorprobe
DESCRIPTION:Rund um Schumanns Dichterliebe
URL:https://quartieragenda.qv5.ch/event/chorprobe/
LOCATION:Kornhausschulhaus Singsaal\, Limmatstrasse 176\, Zürich\, 8005
ORGANIZER;CN="amattochor":MAILTO:melm@bluewin.ch
END:VEVENT
BEGIN:VEVENT
DTSTART;TZID=Europe/Berlin:20260226T193000
DTEND;TZID=Europe/Berlin:20260226T211500
DTSTAMP:20260425T035931
CREATED:20260219T112748Z
LAST-MODIFIED:20260219T112748Z
UID:7368-1772134200-1772140500@quartieragenda.qv5.ch
SUMMARY:Rund um Schumanns Dichterliebe
DESCRIPTION:Singen im Chor
URL:https://quartieragenda.qv5.ch/event/rund-um-schumanns-dichterliebe/
CATEGORIES:Gemeinsames Singen
ORGANIZER;CN="amattochor":MAILTO:melm@bluewin.ch
END:VEVENT
END:VCALENDAR