BEGIN:VCALENDAR
VERSION:2.0
PRODID:-//Quartieragenda - ECPv5.14.2.1//NONSGML v1.0//EN
CALSCALE:GREGORIAN
METHOD:PUBLISH
X-WR-CALNAME:Quartieragenda
X-ORIGINAL-URL:https://quartieragenda.qv5.ch
X-WR-CALDESC:Events for Quartieragenda
REFRESH-INTERVAL;VALUE=DURATION:PT1H
X-Robots-Tag:noindex
X-PUBLISHED-TTL:PT1H
BEGIN:VTIMEZONE
TZID:Europe/Berlin
BEGIN:DAYLIGHT
TZOFFSETFROM:+0100
TZOFFSETTO:+0200
TZNAME:CEST
DTSTART:20250330T010000
END:DAYLIGHT
BEGIN:STANDARD
TZOFFSETFROM:+0200
TZOFFSETTO:+0100
TZNAME:CET
DTSTART:20251026T010000
END:STANDARD
END:VTIMEZONE
BEGIN:VEVENT
DTSTART;TZID=Europe/Berlin:20251123T110000
DTEND;TZID=Europe/Berlin:20251123T180000
DTSTAMP:20260425T191955
CREATED:20251020T071626Z
LAST-MODIFIED:20251020T071626Z
UID:6588-1763895600-1763920800@quartieragenda.qv5.ch
SUMMARY:Familientag im Löwenbräukunst
DESCRIPTION:Ein Tag für alle!\nEin buntes Programm\, bei dem Kreativität und Spass im Mittelpunkt stehen: Und das alles begleitet von viel Kunst! Merken Sie sich den Termin vor und bringen Sie die ganze Familie\, Freunde\, Grosseltern und Spielkameraden mit – wir freuen uns auf einen wunderbaren Tag voller Kreativität und gemeinsamer Erlebnisse! \nWorkshops und Rundgänge für Teilnehmende aller Altersgruppen finden im Migros Museum für Gestaltung\, Bistro LOI\, Museum Haus Konstruktiv bei der Edition VFO und in der Galerie Hauser & Wirth statt. In der Kunsthalle Zürich bieten wir den Sonderworkshop «Glitterglocken und Schneegestöber» an! \n15–17 Uhr: Glitterglocken und Schneegestöber!\nKunsthalle Zürich / Studio Kunsthalle Zürich\nAuf Grund der grossen Nachfrage letztes Jahr gibt es nun 4 Slots à 30 Minuten\, jeweils für max. 15 Personen:\n15.00–15.30\, 15.30–16.00\, 16.00–16.30 und 16.30–17.00 Uhr \nKennst Du die Schneekugeln\, die beim Schütteln eine kleine Welt in Schneegestöber hüllen? Im Studio der Kunsthalle Zürich kannst Du eine eigene\, freche Version davon machen – mit ganz viel Glitzer und eigenen Motiven. Du kannst dich selber mit Fotos in einem Glitzersturm verewigen\, oder andere Dinge\, welche gegen den Winterblues helfen. Motive in Passfotogrösse bitte selber mitnehmen. \nAb 6 Jahren\nAnmeldung: kids [​at​] kunsthallezurich.ch\nBitte unbedingt angeben: Slot-Nummer (1–4)\, Anzahl Personen und Namen \nVollständiges Programm im Löwenbräukunst: https://www.lowenbraukunst.ch/de/events/familientag-im-loewenbraeukunst-ein-tag-fuer-alle
URL:https://quartieragenda.qv5.ch/event/familientag-im-loewenbraeukunst/
LOCATION:Löwenbräukunst\, Limmatstrasse 268&270\, Zürich\, Zürich\, 8005\, Switzerland
CATEGORIES:Familien
ATTACH;FMTTYPE=image/jpeg:https://quartieragenda.qv5.ch/wp-content/uploads/2025/10/2025-09-25-lk_familientag_banner.jpg
ORGANIZER;CN="L%26ouml%3Bwenbr%26auml%3Bukunst":MAILTO:info@lowenbraukunst.ch
END:VEVENT
END:VCALENDAR