BEGIN:VCALENDAR
VERSION:2.0
PRODID:-//Quartieragenda - ECPv5.14.2.1//NONSGML v1.0//EN
CALSCALE:GREGORIAN
METHOD:PUBLISH
X-WR-CALNAME:Quartieragenda
X-ORIGINAL-URL:https://quartieragenda.qv5.ch
X-WR-CALDESC:Events for Quartieragenda
REFRESH-INTERVAL;VALUE=DURATION:PT1H
X-Robots-Tag:noindex
X-PUBLISHED-TTL:PT1H
BEGIN:VTIMEZONE
TZID:Europe/Berlin
BEGIN:DAYLIGHT
TZOFFSETFROM:+0100
TZOFFSETTO:+0200
TZNAME:CEST
DTSTART:20260329T010000
END:DAYLIGHT
BEGIN:STANDARD
TZOFFSETFROM:+0200
TZOFFSETTO:+0100
TZNAME:CET
DTSTART:20261025T010000
END:STANDARD
END:VTIMEZONE
BEGIN:VEVENT
DTSTART;TZID=Europe/Berlin:20260506T140000
DTEND;TZID=Europe/Berlin:20260506T170000
DTSTAMP:20260424T220543
CREATED:20260331T073003Z
LAST-MODIFIED:20260331T073003Z
UID:7591-1778076000-1778086800@quartieragenda.qv5.ch
SUMMARY:Wir und die Welt von morgen
DESCRIPTION:Frühlingssemester 2026\nFür 8 – 11 Jährige\n8 Mittwochnachmittage\, 14 bis 17 Uhr \nVeranstaltungsdaten und -orte\n6.5. Museum Haus Konstruktiv\n13.5. / 20.5. / 27.5. OFFCUT Zürich\n3.6. / 10.6. / 17.6. Tanzhaus Zürich\n24.6. Museum Haus Konstruktiv (Diplomfeier) \nIn der Kinder-Kultur-Akademie Zürich entdecken Kinder von 8 bis 11 Jahren an drei Orten in Zürich Kunst\, Bewegung und nachhaltiges Gestalten: \nMuseum Haus Konstruktiv:\nWir tauchen ein in die farbenfrohe Bildwelt von Richard Paul Lohse und entdecken\, was Kunst mit Fairness und Zusammenhalt zu tun hat. \nOFFCUT Zürich:\nWir arbeiten mit Vorhandenem\, erkunden spielerisch eine Vielfalt an Materialien und entwickeln dreidimensionale Ideen für nachhaltige Träume und Räume von morgen. \nTanzhaus Zürich:\nZum Festivalauftakt MovingTowardsZero und zum 30. Geburtstag des Tanzhauses erforschen wir durch Tanz\, wie wir mit unserem Körper\, den Menschen und Ressourcen um uns herum\, unsere Zukunft nachhaltiger gestalten können.  \nDas Frühlingssemester der KKAZ lädt zum Mitmachen\, Ausprobieren und gemeinsamen Nachdenken ein – über uns\, die anderen und unsere Zukunft. Am letzten Nachmittag zeigen wir in einer Abschlusspräsentation\, was alles entstanden ist\, und jedes KKAZ-Kind erhält ein Diplom. \nAnmeldung bis Montag 4. Mai: https://admin.hauskonstruktiv.ch/assets/image/Anmeldeformular_FS26.pdf\nTeilnahmebestätigung nach Anmeldeeingang
URL:https://quartieragenda.qv5.ch/event/wir-und-die-welt-von-morgen/2026-05-06/
LOCATION:Museum Haus Konstruktiv\, Limmatstrasse 268\, Zürich\, 8005\, Switzerland
CATEGORIES:Kinder und Jugendliche
ATTACH;FMTTYPE=image/jpeg:https://quartieragenda.qv5.ch/wp-content/uploads/2026/03/HK_KKAZ_klein-scaled.jpg
ORGANIZER;CN="Museum%20Haus%20Konstruktiv":MAILTO:j.hofer@hauskonstruktiv.ch
END:VEVENT
BEGIN:VEVENT
DTSTART;TZID=Europe/Berlin:20260513T140000
DTEND;TZID=Europe/Berlin:20260513T170000
DTSTAMP:20260424T220543
CREATED:20260331T073003Z
LAST-MODIFIED:20260331T073003Z
UID:7596-1778680800-1778691600@quartieragenda.qv5.ch
SUMMARY:Wir und die Welt von morgen
DESCRIPTION:Frühlingssemester 2026\nFür 8 – 11 Jährige\n8 Mittwochnachmittage\, 14 bis 17 Uhr \nVeranstaltungsdaten und -orte\n6.5. Museum Haus Konstruktiv\n13.5. / 20.5. / 27.5. OFFCUT Zürich\n3.6. / 10.6. / 17.6. Tanzhaus Zürich\n24.6. Museum Haus Konstruktiv (Diplomfeier) \nIn der Kinder-Kultur-Akademie Zürich entdecken Kinder von 8 bis 11 Jahren an drei Orten in Zürich Kunst\, Bewegung und nachhaltiges Gestalten: \nMuseum Haus Konstruktiv:\nWir tauchen ein in die farbenfrohe Bildwelt von Richard Paul Lohse und entdecken\, was Kunst mit Fairness und Zusammenhalt zu tun hat. \nOFFCUT Zürich:\nWir arbeiten mit Vorhandenem\, erkunden spielerisch eine Vielfalt an Materialien und entwickeln dreidimensionale Ideen für nachhaltige Träume und Räume von morgen. \nTanzhaus Zürich:\nZum Festivalauftakt MovingTowardsZero und zum 30. Geburtstag des Tanzhauses erforschen wir durch Tanz\, wie wir mit unserem Körper\, den Menschen und Ressourcen um uns herum\, unsere Zukunft nachhaltiger gestalten können.  \nDas Frühlingssemester der KKAZ lädt zum Mitmachen\, Ausprobieren und gemeinsamen Nachdenken ein – über uns\, die anderen und unsere Zukunft. Am letzten Nachmittag zeigen wir in einer Abschlusspräsentation\, was alles entstanden ist\, und jedes KKAZ-Kind erhält ein Diplom. \nAnmeldung bis Montag 4. Mai: https://admin.hauskonstruktiv.ch/assets/image/Anmeldeformular_FS26.pdf\nTeilnahmebestätigung nach Anmeldeeingang
URL:https://quartieragenda.qv5.ch/event/wir-und-die-welt-von-morgen/2026-05-13/
LOCATION:Museum Haus Konstruktiv\, Limmatstrasse 268\, Zürich\, 8005\, Switzerland
ATTACH;FMTTYPE=image/jpeg:https://quartieragenda.qv5.ch/wp-content/uploads/2026/03/HK_KKAZ_klein-scaled.jpg
ORGANIZER;CN="Museum%20Haus%20Konstruktiv":MAILTO:j.hofer@hauskonstruktiv.ch
END:VEVENT
BEGIN:VEVENT
DTSTART;TZID=Europe/Berlin:20260520T140000
DTEND;TZID=Europe/Berlin:20260520T170000
DTSTAMP:20260424T220543
CREATED:20260331T073003Z
LAST-MODIFIED:20260331T073003Z
UID:7597-1779285600-1779296400@quartieragenda.qv5.ch
SUMMARY:Wir und die Welt von morgen
DESCRIPTION:Frühlingssemester 2026\nFür 8 – 11 Jährige\n8 Mittwochnachmittage\, 14 bis 17 Uhr \nVeranstaltungsdaten und -orte\n6.5. Museum Haus Konstruktiv\n13.5. / 20.5. / 27.5. OFFCUT Zürich\n3.6. / 10.6. / 17.6. Tanzhaus Zürich\n24.6. Museum Haus Konstruktiv (Diplomfeier) \nIn der Kinder-Kultur-Akademie Zürich entdecken Kinder von 8 bis 11 Jahren an drei Orten in Zürich Kunst\, Bewegung und nachhaltiges Gestalten: \nMuseum Haus Konstruktiv:\nWir tauchen ein in die farbenfrohe Bildwelt von Richard Paul Lohse und entdecken\, was Kunst mit Fairness und Zusammenhalt zu tun hat. \nOFFCUT Zürich:\nWir arbeiten mit Vorhandenem\, erkunden spielerisch eine Vielfalt an Materialien und entwickeln dreidimensionale Ideen für nachhaltige Träume und Räume von morgen. \nTanzhaus Zürich:\nZum Festivalauftakt MovingTowardsZero und zum 30. Geburtstag des Tanzhauses erforschen wir durch Tanz\, wie wir mit unserem Körper\, den Menschen und Ressourcen um uns herum\, unsere Zukunft nachhaltiger gestalten können.  \nDas Frühlingssemester der KKAZ lädt zum Mitmachen\, Ausprobieren und gemeinsamen Nachdenken ein – über uns\, die anderen und unsere Zukunft. Am letzten Nachmittag zeigen wir in einer Abschlusspräsentation\, was alles entstanden ist\, und jedes KKAZ-Kind erhält ein Diplom. \nAnmeldung bis Montag 4. Mai: https://admin.hauskonstruktiv.ch/assets/image/Anmeldeformular_FS26.pdf\nTeilnahmebestätigung nach Anmeldeeingang
URL:https://quartieragenda.qv5.ch/event/wir-und-die-welt-von-morgen/2026-05-20/
LOCATION:Museum Haus Konstruktiv\, Limmatstrasse 268\, Zürich\, 8005\, Switzerland
ATTACH;FMTTYPE=image/jpeg:https://quartieragenda.qv5.ch/wp-content/uploads/2026/03/HK_KKAZ_klein-scaled.jpg
ORGANIZER;CN="Museum%20Haus%20Konstruktiv":MAILTO:j.hofer@hauskonstruktiv.ch
END:VEVENT
BEGIN:VEVENT
DTSTART;TZID=Europe/Berlin:20260527T140000
DTEND;TZID=Europe/Berlin:20260527T170000
DTSTAMP:20260424T220543
CREATED:20260331T073003Z
LAST-MODIFIED:20260331T073003Z
UID:7598-1779890400-1779901200@quartieragenda.qv5.ch
SUMMARY:Wir und die Welt von morgen
DESCRIPTION:Frühlingssemester 2026\nFür 8 – 11 Jährige\n8 Mittwochnachmittage\, 14 bis 17 Uhr \nVeranstaltungsdaten und -orte\n6.5. Museum Haus Konstruktiv\n13.5. / 20.5. / 27.5. OFFCUT Zürich\n3.6. / 10.6. / 17.6. Tanzhaus Zürich\n24.6. Museum Haus Konstruktiv (Diplomfeier) \nIn der Kinder-Kultur-Akademie Zürich entdecken Kinder von 8 bis 11 Jahren an drei Orten in Zürich Kunst\, Bewegung und nachhaltiges Gestalten: \nMuseum Haus Konstruktiv:\nWir tauchen ein in die farbenfrohe Bildwelt von Richard Paul Lohse und entdecken\, was Kunst mit Fairness und Zusammenhalt zu tun hat. \nOFFCUT Zürich:\nWir arbeiten mit Vorhandenem\, erkunden spielerisch eine Vielfalt an Materialien und entwickeln dreidimensionale Ideen für nachhaltige Träume und Räume von morgen. \nTanzhaus Zürich:\nZum Festivalauftakt MovingTowardsZero und zum 30. Geburtstag des Tanzhauses erforschen wir durch Tanz\, wie wir mit unserem Körper\, den Menschen und Ressourcen um uns herum\, unsere Zukunft nachhaltiger gestalten können.  \nDas Frühlingssemester der KKAZ lädt zum Mitmachen\, Ausprobieren und gemeinsamen Nachdenken ein – über uns\, die anderen und unsere Zukunft. Am letzten Nachmittag zeigen wir in einer Abschlusspräsentation\, was alles entstanden ist\, und jedes KKAZ-Kind erhält ein Diplom. \nAnmeldung bis Montag 4. Mai: https://admin.hauskonstruktiv.ch/assets/image/Anmeldeformular_FS26.pdf\nTeilnahmebestätigung nach Anmeldeeingang
URL:https://quartieragenda.qv5.ch/event/wir-und-die-welt-von-morgen/2026-05-27/
LOCATION:Museum Haus Konstruktiv\, Limmatstrasse 268\, Zürich\, 8005\, Switzerland
ATTACH;FMTTYPE=image/jpeg:https://quartieragenda.qv5.ch/wp-content/uploads/2026/03/HK_KKAZ_klein-scaled.jpg
ORGANIZER;CN="Museum%20Haus%20Konstruktiv":MAILTO:j.hofer@hauskonstruktiv.ch
END:VEVENT
BEGIN:VEVENT
DTSTART;TZID=Europe/Berlin:20260603T140000
DTEND;TZID=Europe/Berlin:20260603T170000
DTSTAMP:20260424T220543
CREATED:20260331T073003Z
LAST-MODIFIED:20260331T073003Z
UID:7599-1780495200-1780506000@quartieragenda.qv5.ch
SUMMARY:Wir und die Welt von morgen
DESCRIPTION:Frühlingssemester 2026\nFür 8 – 11 Jährige\n8 Mittwochnachmittage\, 14 bis 17 Uhr \nVeranstaltungsdaten und -orte\n6.5. Museum Haus Konstruktiv\n13.5. / 20.5. / 27.5. OFFCUT Zürich\n3.6. / 10.6. / 17.6. Tanzhaus Zürich\n24.6. Museum Haus Konstruktiv (Diplomfeier) \nIn der Kinder-Kultur-Akademie Zürich entdecken Kinder von 8 bis 11 Jahren an drei Orten in Zürich Kunst\, Bewegung und nachhaltiges Gestalten: \nMuseum Haus Konstruktiv:\nWir tauchen ein in die farbenfrohe Bildwelt von Richard Paul Lohse und entdecken\, was Kunst mit Fairness und Zusammenhalt zu tun hat. \nOFFCUT Zürich:\nWir arbeiten mit Vorhandenem\, erkunden spielerisch eine Vielfalt an Materialien und entwickeln dreidimensionale Ideen für nachhaltige Träume und Räume von morgen. \nTanzhaus Zürich:\nZum Festivalauftakt MovingTowardsZero und zum 30. Geburtstag des Tanzhauses erforschen wir durch Tanz\, wie wir mit unserem Körper\, den Menschen und Ressourcen um uns herum\, unsere Zukunft nachhaltiger gestalten können.  \nDas Frühlingssemester der KKAZ lädt zum Mitmachen\, Ausprobieren und gemeinsamen Nachdenken ein – über uns\, die anderen und unsere Zukunft. Am letzten Nachmittag zeigen wir in einer Abschlusspräsentation\, was alles entstanden ist\, und jedes KKAZ-Kind erhält ein Diplom. \nAnmeldung bis Montag 4. Mai: https://admin.hauskonstruktiv.ch/assets/image/Anmeldeformular_FS26.pdf\nTeilnahmebestätigung nach Anmeldeeingang
URL:https://quartieragenda.qv5.ch/event/wir-und-die-welt-von-morgen/2026-06-03/
LOCATION:Museum Haus Konstruktiv\, Limmatstrasse 268\, Zürich\, 8005\, Switzerland
ATTACH;FMTTYPE=image/jpeg:https://quartieragenda.qv5.ch/wp-content/uploads/2026/03/HK_KKAZ_klein-scaled.jpg
ORGANIZER;CN="Museum%20Haus%20Konstruktiv":MAILTO:j.hofer@hauskonstruktiv.ch
END:VEVENT
BEGIN:VEVENT
DTSTART;TZID=Europe/Berlin:20260610T140000
DTEND;TZID=Europe/Berlin:20260610T170000
DTSTAMP:20260424T220543
CREATED:20260331T073003Z
LAST-MODIFIED:20260331T073003Z
UID:7600-1781100000-1781110800@quartieragenda.qv5.ch
SUMMARY:Wir und die Welt von morgen
DESCRIPTION:Frühlingssemester 2026\nFür 8 – 11 Jährige\n8 Mittwochnachmittage\, 14 bis 17 Uhr \nVeranstaltungsdaten und -orte\n6.5. Museum Haus Konstruktiv\n13.5. / 20.5. / 27.5. OFFCUT Zürich\n3.6. / 10.6. / 17.6. Tanzhaus Zürich\n24.6. Museum Haus Konstruktiv (Diplomfeier) \nIn der Kinder-Kultur-Akademie Zürich entdecken Kinder von 8 bis 11 Jahren an drei Orten in Zürich Kunst\, Bewegung und nachhaltiges Gestalten: \nMuseum Haus Konstruktiv:\nWir tauchen ein in die farbenfrohe Bildwelt von Richard Paul Lohse und entdecken\, was Kunst mit Fairness und Zusammenhalt zu tun hat. \nOFFCUT Zürich:\nWir arbeiten mit Vorhandenem\, erkunden spielerisch eine Vielfalt an Materialien und entwickeln dreidimensionale Ideen für nachhaltige Träume und Räume von morgen. \nTanzhaus Zürich:\nZum Festivalauftakt MovingTowardsZero und zum 30. Geburtstag des Tanzhauses erforschen wir durch Tanz\, wie wir mit unserem Körper\, den Menschen und Ressourcen um uns herum\, unsere Zukunft nachhaltiger gestalten können.  \nDas Frühlingssemester der KKAZ lädt zum Mitmachen\, Ausprobieren und gemeinsamen Nachdenken ein – über uns\, die anderen und unsere Zukunft. Am letzten Nachmittag zeigen wir in einer Abschlusspräsentation\, was alles entstanden ist\, und jedes KKAZ-Kind erhält ein Diplom. \nAnmeldung bis Montag 4. Mai: https://admin.hauskonstruktiv.ch/assets/image/Anmeldeformular_FS26.pdf\nTeilnahmebestätigung nach Anmeldeeingang
URL:https://quartieragenda.qv5.ch/event/wir-und-die-welt-von-morgen/2026-06-10/
LOCATION:Museum Haus Konstruktiv\, Limmatstrasse 268\, Zürich\, 8005\, Switzerland
ATTACH;FMTTYPE=image/jpeg:https://quartieragenda.qv5.ch/wp-content/uploads/2026/03/HK_KKAZ_klein-scaled.jpg
ORGANIZER;CN="Museum%20Haus%20Konstruktiv":MAILTO:j.hofer@hauskonstruktiv.ch
END:VEVENT
BEGIN:VEVENT
DTSTART;TZID=Europe/Berlin:20260617T140000
DTEND;TZID=Europe/Berlin:20260617T170000
DTSTAMP:20260424T220543
CREATED:20260331T073003Z
LAST-MODIFIED:20260331T073003Z
UID:7601-1781704800-1781715600@quartieragenda.qv5.ch
SUMMARY:Wir und die Welt von morgen
DESCRIPTION:Frühlingssemester 2026\nFür 8 – 11 Jährige\n8 Mittwochnachmittage\, 14 bis 17 Uhr \nVeranstaltungsdaten und -orte\n6.5. Museum Haus Konstruktiv\n13.5. / 20.5. / 27.5. OFFCUT Zürich\n3.6. / 10.6. / 17.6. Tanzhaus Zürich\n24.6. Museum Haus Konstruktiv (Diplomfeier) \nIn der Kinder-Kultur-Akademie Zürich entdecken Kinder von 8 bis 11 Jahren an drei Orten in Zürich Kunst\, Bewegung und nachhaltiges Gestalten: \nMuseum Haus Konstruktiv:\nWir tauchen ein in die farbenfrohe Bildwelt von Richard Paul Lohse und entdecken\, was Kunst mit Fairness und Zusammenhalt zu tun hat. \nOFFCUT Zürich:\nWir arbeiten mit Vorhandenem\, erkunden spielerisch eine Vielfalt an Materialien und entwickeln dreidimensionale Ideen für nachhaltige Träume und Räume von morgen. \nTanzhaus Zürich:\nZum Festivalauftakt MovingTowardsZero und zum 30. Geburtstag des Tanzhauses erforschen wir durch Tanz\, wie wir mit unserem Körper\, den Menschen und Ressourcen um uns herum\, unsere Zukunft nachhaltiger gestalten können.  \nDas Frühlingssemester der KKAZ lädt zum Mitmachen\, Ausprobieren und gemeinsamen Nachdenken ein – über uns\, die anderen und unsere Zukunft. Am letzten Nachmittag zeigen wir in einer Abschlusspräsentation\, was alles entstanden ist\, und jedes KKAZ-Kind erhält ein Diplom. \nAnmeldung bis Montag 4. Mai: https://admin.hauskonstruktiv.ch/assets/image/Anmeldeformular_FS26.pdf\nTeilnahmebestätigung nach Anmeldeeingang
URL:https://quartieragenda.qv5.ch/event/wir-und-die-welt-von-morgen/2026-06-17/
LOCATION:Museum Haus Konstruktiv\, Limmatstrasse 268\, Zürich\, 8005\, Switzerland
ATTACH;FMTTYPE=image/jpeg:https://quartieragenda.qv5.ch/wp-content/uploads/2026/03/HK_KKAZ_klein-scaled.jpg
ORGANIZER;CN="Museum%20Haus%20Konstruktiv":MAILTO:j.hofer@hauskonstruktiv.ch
END:VEVENT
BEGIN:VEVENT
DTSTART;TZID=Europe/Berlin:20260624T140000
DTEND;TZID=Europe/Berlin:20260624T170000
DTSTAMP:20260424T220543
CREATED:20260331T073003Z
LAST-MODIFIED:20260331T073003Z
UID:7602-1782309600-1782320400@quartieragenda.qv5.ch
SUMMARY:Wir und die Welt von morgen
DESCRIPTION:Frühlingssemester 2026\nFür 8 – 11 Jährige\n8 Mittwochnachmittage\, 14 bis 17 Uhr \nVeranstaltungsdaten und -orte\n6.5. Museum Haus Konstruktiv\n13.5. / 20.5. / 27.5. OFFCUT Zürich\n3.6. / 10.6. / 17.6. Tanzhaus Zürich\n24.6. Museum Haus Konstruktiv (Diplomfeier) \nIn der Kinder-Kultur-Akademie Zürich entdecken Kinder von 8 bis 11 Jahren an drei Orten in Zürich Kunst\, Bewegung und nachhaltiges Gestalten: \nMuseum Haus Konstruktiv:\nWir tauchen ein in die farbenfrohe Bildwelt von Richard Paul Lohse und entdecken\, was Kunst mit Fairness und Zusammenhalt zu tun hat. \nOFFCUT Zürich:\nWir arbeiten mit Vorhandenem\, erkunden spielerisch eine Vielfalt an Materialien und entwickeln dreidimensionale Ideen für nachhaltige Träume und Räume von morgen. \nTanzhaus Zürich:\nZum Festivalauftakt MovingTowardsZero und zum 30. Geburtstag des Tanzhauses erforschen wir durch Tanz\, wie wir mit unserem Körper\, den Menschen und Ressourcen um uns herum\, unsere Zukunft nachhaltiger gestalten können.  \nDas Frühlingssemester der KKAZ lädt zum Mitmachen\, Ausprobieren und gemeinsamen Nachdenken ein – über uns\, die anderen und unsere Zukunft. Am letzten Nachmittag zeigen wir in einer Abschlusspräsentation\, was alles entstanden ist\, und jedes KKAZ-Kind erhält ein Diplom. \nAnmeldung bis Montag 4. Mai: https://admin.hauskonstruktiv.ch/assets/image/Anmeldeformular_FS26.pdf\nTeilnahmebestätigung nach Anmeldeeingang
URL:https://quartieragenda.qv5.ch/event/wir-und-die-welt-von-morgen/2026-06-24/
LOCATION:Museum Haus Konstruktiv\, Limmatstrasse 268\, Zürich\, 8005\, Switzerland
ATTACH;FMTTYPE=image/jpeg:https://quartieragenda.qv5.ch/wp-content/uploads/2026/03/HK_KKAZ_klein-scaled.jpg
ORGANIZER;CN="Museum%20Haus%20Konstruktiv":MAILTO:j.hofer@hauskonstruktiv.ch
END:VEVENT
BEGIN:VEVENT
DTSTART;TZID=Europe/Berlin:20260714T110000
DTEND;TZID=Europe/Berlin:20260714T170000
DTSTAMP:20260424T220543
CREATED:20260331T073624Z
LAST-MODIFIED:20260331T073624Z
UID:7604-1784026800-1784048400@quartieragenda.qv5.ch
SUMMARY:Stadt. Stimmen. Stories. Eine Sommerferienwoche der KKAZ
DESCRIPTION:Sommerferien-Special für Für 12 – 15 Jährige \nVeranstaltungsdaten\n14.7.\, 11-17 Uhr Museum Haus Konstruktiv\n15.7.\, 13-17 Uhr Schreibstrom im Karl der Grosse\n16.7.\, 13-17 Uhr NONAM\n17.7.\, 13-17 Uhr Improtheater anundpfirsich \nBist du neugierig darauf\, wie Geschichten entstehen – und möchtest selbst welche erfinden?\nIn der Sommerferienwoche der Kinder-Kultur-Akademie Zürich tauchst du ein in die Welt des Storytellings – zwischen Geschichten erfinden\, frei schreiben und Szenen improvisieren. Gemeinsam entdecken wir unterschiedliche Formen des Erzählens. \nDienstag – Museum Haus Konstruktiv: Wir verbringen Zeit in den Ausstellungsräumen und im Atelier\, wo wir künstlerische Wege des Erzählens kennenlernen. \nMittwoch – Karl der Grosse: Mit Schreibstrom tauchen wir ins freie Schreiben und Dichten ein und erleben\, wie aus einzelnen Worten Schritt für Schritt spannende Geschichten oder Gedichte entstehen. \nDonnerstag – NONAM: Auf unserer Reise durch Nordamerika entdecken wir die vielen Geschichten\, die in Objekten\, Bildern und Erzähltraditionen stecken. \nFreitag – anundpfirsich: Im Impro-Theater erfahren wir spielerisch\, wie Geschichten im Moment entstehen. \nZum Abschluss erhalten alle ein persönliches Diplom als Nachweis der eigenen kreativen Leistung und der gemeinsam erlebten Storytelling-Woche. \nAnmeldung bis Freitag\, 10. Juli https://admin.hauskonstruktiv.ch/assets/image/Anmeldeformular_FS26.pdf\nTeilnahmebestätigung nach Anmeldeeingang
URL:https://quartieragenda.qv5.ch/event/stadt-stimmen-stories-eine-sommerferienwoche-der-kkaz/2026-07-14/
LOCATION:Museum Haus Konstruktiv\, Limmatstrasse 268\, Zürich\, 8005\, Switzerland
CATEGORIES:Kinder und Jugendliche
ATTACH;FMTTYPE=image/jpeg:https://quartieragenda.qv5.ch/wp-content/uploads/2026/03/HK_KKAZ_gross_Foto_Bettina_Diel.jpg
ORGANIZER;CN="Museum%20Haus%20Konstruktiv":MAILTO:j.hofer@hauskonstruktiv.ch
END:VEVENT
BEGIN:VEVENT
DTSTART;TZID=Europe/Berlin:20260715T130000
DTEND;TZID=Europe/Berlin:20260715T170000
DTSTAMP:20260424T220543
CREATED:20260331T073624Z
LAST-MODIFIED:20260331T073624Z
UID:7609-1784120400-1784134800@quartieragenda.qv5.ch
SUMMARY:Stadt. Stimmen. Stories. Eine Sommerferienwoche der KKAZ
DESCRIPTION:Sommerferien-Special für Für 12 – 15 Jährige \nVeranstaltungsdaten\n14.7.\, 11-17 Uhr Museum Haus Konstruktiv\n15.7.\, 13-17 Uhr Schreibstrom im Karl der Grosse\n16.7.\, 13-17 Uhr NONAM\n17.7.\, 13-17 Uhr Improtheater anundpfirsich \nBist du neugierig darauf\, wie Geschichten entstehen – und möchtest selbst welche erfinden?\nIn der Sommerferienwoche der Kinder-Kultur-Akademie Zürich tauchst du ein in die Welt des Storytellings – zwischen Geschichten erfinden\, frei schreiben und Szenen improvisieren. Gemeinsam entdecken wir unterschiedliche Formen des Erzählens. \nDienstag – Museum Haus Konstruktiv: Wir verbringen Zeit in den Ausstellungsräumen und im Atelier\, wo wir künstlerische Wege des Erzählens kennenlernen. \nMittwoch – Karl der Grosse: Mit Schreibstrom tauchen wir ins freie Schreiben und Dichten ein und erleben\, wie aus einzelnen Worten Schritt für Schritt spannende Geschichten oder Gedichte entstehen. \nDonnerstag – NONAM: Auf unserer Reise durch Nordamerika entdecken wir die vielen Geschichten\, die in Objekten\, Bildern und Erzähltraditionen stecken. \nFreitag – anundpfirsich: Im Impro-Theater erfahren wir spielerisch\, wie Geschichten im Moment entstehen. \nZum Abschluss erhalten alle ein persönliches Diplom als Nachweis der eigenen kreativen Leistung und der gemeinsam erlebten Storytelling-Woche. \nAnmeldung bis Freitag\, 10. Juli https://admin.hauskonstruktiv.ch/assets/image/Anmeldeformular_FS26.pdf\nTeilnahmebestätigung nach Anmeldeeingang
URL:https://quartieragenda.qv5.ch/event/stadt-stimmen-stories-eine-sommerferienwoche-der-kkaz/2026-07-15/
LOCATION:Museum Haus Konstruktiv\, Limmatstrasse 268\, Zürich\, 8005\, Switzerland
ATTACH;FMTTYPE=image/jpeg:https://quartieragenda.qv5.ch/wp-content/uploads/2026/03/HK_KKAZ_gross_Foto_Bettina_Diel.jpg
ORGANIZER;CN="Museum%20Haus%20Konstruktiv":MAILTO:j.hofer@hauskonstruktiv.ch
END:VEVENT
BEGIN:VEVENT
DTSTART;TZID=Europe/Berlin:20260716T130000
DTEND;TZID=Europe/Berlin:20260716T170000
DTSTAMP:20260424T220543
CREATED:20260331T073624Z
LAST-MODIFIED:20260331T073624Z
UID:7610-1784206800-1784221200@quartieragenda.qv5.ch
SUMMARY:Stadt. Stimmen. Stories. Eine Sommerferienwoche der KKAZ
DESCRIPTION:Sommerferien-Special für Für 12 – 15 Jährige \nVeranstaltungsdaten\n14.7.\, 11-17 Uhr Museum Haus Konstruktiv\n15.7.\, 13-17 Uhr Schreibstrom im Karl der Grosse\n16.7.\, 13-17 Uhr NONAM\n17.7.\, 13-17 Uhr Improtheater anundpfirsich \nBist du neugierig darauf\, wie Geschichten entstehen – und möchtest selbst welche erfinden?\nIn der Sommerferienwoche der Kinder-Kultur-Akademie Zürich tauchst du ein in die Welt des Storytellings – zwischen Geschichten erfinden\, frei schreiben und Szenen improvisieren. Gemeinsam entdecken wir unterschiedliche Formen des Erzählens. \nDienstag – Museum Haus Konstruktiv: Wir verbringen Zeit in den Ausstellungsräumen und im Atelier\, wo wir künstlerische Wege des Erzählens kennenlernen. \nMittwoch – Karl der Grosse: Mit Schreibstrom tauchen wir ins freie Schreiben und Dichten ein und erleben\, wie aus einzelnen Worten Schritt für Schritt spannende Geschichten oder Gedichte entstehen. \nDonnerstag – NONAM: Auf unserer Reise durch Nordamerika entdecken wir die vielen Geschichten\, die in Objekten\, Bildern und Erzähltraditionen stecken. \nFreitag – anundpfirsich: Im Impro-Theater erfahren wir spielerisch\, wie Geschichten im Moment entstehen. \nZum Abschluss erhalten alle ein persönliches Diplom als Nachweis der eigenen kreativen Leistung und der gemeinsam erlebten Storytelling-Woche. \nAnmeldung bis Freitag\, 10. Juli https://admin.hauskonstruktiv.ch/assets/image/Anmeldeformular_FS26.pdf\nTeilnahmebestätigung nach Anmeldeeingang
URL:https://quartieragenda.qv5.ch/event/stadt-stimmen-stories-eine-sommerferienwoche-der-kkaz/2026-07-16/
LOCATION:Museum Haus Konstruktiv\, Limmatstrasse 268\, Zürich\, 8005\, Switzerland
ATTACH;FMTTYPE=image/jpeg:https://quartieragenda.qv5.ch/wp-content/uploads/2026/03/HK_KKAZ_gross_Foto_Bettina_Diel.jpg
ORGANIZER;CN="Museum%20Haus%20Konstruktiv":MAILTO:j.hofer@hauskonstruktiv.ch
END:VEVENT
BEGIN:VEVENT
DTSTART;TZID=Europe/Berlin:20260717T130000
DTEND;TZID=Europe/Berlin:20260717T170000
DTSTAMP:20260424T220543
CREATED:20260331T073624Z
LAST-MODIFIED:20260331T073624Z
UID:7611-1784293200-1784307600@quartieragenda.qv5.ch
SUMMARY:Stadt. Stimmen. Stories. Eine Sommerferienwoche der KKAZ
DESCRIPTION:Sommerferien-Special für Für 12 – 15 Jährige \nVeranstaltungsdaten\n14.7.\, 11-17 Uhr Museum Haus Konstruktiv\n15.7.\, 13-17 Uhr Schreibstrom im Karl der Grosse\n16.7.\, 13-17 Uhr NONAM\n17.7.\, 13-17 Uhr Improtheater anundpfirsich \nBist du neugierig darauf\, wie Geschichten entstehen – und möchtest selbst welche erfinden?\nIn der Sommerferienwoche der Kinder-Kultur-Akademie Zürich tauchst du ein in die Welt des Storytellings – zwischen Geschichten erfinden\, frei schreiben und Szenen improvisieren. Gemeinsam entdecken wir unterschiedliche Formen des Erzählens. \nDienstag – Museum Haus Konstruktiv: Wir verbringen Zeit in den Ausstellungsräumen und im Atelier\, wo wir künstlerische Wege des Erzählens kennenlernen. \nMittwoch – Karl der Grosse: Mit Schreibstrom tauchen wir ins freie Schreiben und Dichten ein und erleben\, wie aus einzelnen Worten Schritt für Schritt spannende Geschichten oder Gedichte entstehen. \nDonnerstag – NONAM: Auf unserer Reise durch Nordamerika entdecken wir die vielen Geschichten\, die in Objekten\, Bildern und Erzähltraditionen stecken. \nFreitag – anundpfirsich: Im Impro-Theater erfahren wir spielerisch\, wie Geschichten im Moment entstehen. \nZum Abschluss erhalten alle ein persönliches Diplom als Nachweis der eigenen kreativen Leistung und der gemeinsam erlebten Storytelling-Woche. \nAnmeldung bis Freitag\, 10. Juli https://admin.hauskonstruktiv.ch/assets/image/Anmeldeformular_FS26.pdf\nTeilnahmebestätigung nach Anmeldeeingang
URL:https://quartieragenda.qv5.ch/event/stadt-stimmen-stories-eine-sommerferienwoche-der-kkaz/2026-07-17/
LOCATION:Museum Haus Konstruktiv\, Limmatstrasse 268\, Zürich\, 8005\, Switzerland
ATTACH;FMTTYPE=image/jpeg:https://quartieragenda.qv5.ch/wp-content/uploads/2026/03/HK_KKAZ_gross_Foto_Bettina_Diel.jpg
ORGANIZER;CN="Museum%20Haus%20Konstruktiv":MAILTO:j.hofer@hauskonstruktiv.ch
END:VEVENT
END:VCALENDAR