BEGIN:VCALENDAR
VERSION:2.0
PRODID:-//Quartieragenda - ECPv5.14.2.1//NONSGML v1.0//EN
CALSCALE:GREGORIAN
METHOD:PUBLISH
X-WR-CALNAME:Quartieragenda
X-ORIGINAL-URL:https://quartieragenda.qv5.ch
X-WR-CALDESC:Events for Quartieragenda
REFRESH-INTERVAL;VALUE=DURATION:PT1H
X-Robots-Tag:noindex
X-PUBLISHED-TTL:PT1H
BEGIN:VTIMEZONE
TZID:Europe/Berlin
BEGIN:DAYLIGHT
TZOFFSETFROM:+0100
TZOFFSETTO:+0200
TZNAME:CEST
DTSTART:20240331T010000
END:DAYLIGHT
BEGIN:STANDARD
TZOFFSETFROM:+0200
TZOFFSETTO:+0100
TZNAME:CET
DTSTART:20241027T010000
END:STANDARD
END:VTIMEZONE
BEGIN:VEVENT
DTSTART;TZID=Europe/Berlin:20240709T090000
DTEND;TZID=Europe/Berlin:20240709T160000
DTSTAMP:20260425T154657
CREATED:20240528T131454Z
LAST-MODIFIED:20240529T072208Z
UID:3270-1720515600-1720540800@quartieragenda.qv5.ch
SUMMARY:GRUNDKURS STERBEBEGLEITUNG – Menschen begleiten in ihrer letzten Lebensphase
DESCRIPTION:Caritas Zürich bietet einen Grundkurs an\, der Menschen ausbildet\, die Schwerkranke in ihrer letzten Lebensphase begleiten. Dieser Kurs umfasst 36 Unterrichtsstunden. Die Kursteilnehmerinnen und Kursteilnehmer setzen sich intensiv mit Tod\, Verlust und Trauer auseinander und erhalten Anregungen für den Umgang und das Gespräch mit sterbenden Menschen. \nDas Angebot richtet sich an Frauen und Männer\, die im Angehörigen- oder Bekanntenkreis jemanden begleiten\, die sich für die Tätigkeit in einer Begleitgruppe vorbereiten möchten\, die im Pflege- und Sozialbereich beruflich tätig sind oder sich einfach für das Thema interessieren. \nDie Kursinhalte werden in erster Linie in Form von Plenumsunterricht und zusätzlich durch Gruppenarbeiten und Diskussionen in verschiedenen Gesprächsrunden vermittelt. \nLink zur Anmeldung  \nIn Kooperation mit Caritas Zürich. \nVeranstaltungsort\nPaulus Akademie\, Pfingstweidstrasse 28\, 8005 Zürich \nBemerkungen\nGrundkurs 24-2\, Juni-Juli 2024 – Daten:\njeweils Dienstag 9-12 und 13-16 Uhr: 04.06. / 11.06. / 18.06. / 25.06. / 02.07. / 09.07.2024 \nLeitung\nRegula Hagmann\, Soziokulturelle Animatorin/Gerontologin\, Fachstelle Begleitung in der letzten Lebensphase\, Caritas Zürich \nKosten\nCHF 960.-\n30% Reduktion für KulturLegi-Besitzende und Mitglieder Gönnerverein Paulus Akademie
URL:https://quartieragenda.qv5.ch/event/grundkurs-sterbebegleitung-menschen-begleiten-in-ihrer-letzten-lebensphase/2024-07-09/
LOCATION:Paulus Akademie\, Pfingstweidstrasse 28\, Zürich\, 8005\, Switzerland
CATEGORIES:Diverses,Kurs, Kreatives
ATTACH;FMTTYPE=image/jpeg:https://quartieragenda.qv5.ch/wp-content/uploads/2024/05/GK_Sterbebegleitung.jpg
ORGANIZER;CN="Paulus%20Akademie":MAILTO:info@paulusakademie.ch
END:VEVENT
BEGIN:VEVENT
DTSTART;TZID=Europe/Berlin:20240702T090000
DTEND;TZID=Europe/Berlin:20240702T160000
DTSTAMP:20260425T154657
CREATED:20240528T131454Z
LAST-MODIFIED:20240529T072208Z
UID:3269-1719910800-1719936000@quartieragenda.qv5.ch
SUMMARY:GRUNDKURS STERBEBEGLEITUNG – Menschen begleiten in ihrer letzten Lebensphase
DESCRIPTION:Caritas Zürich bietet einen Grundkurs an\, der Menschen ausbildet\, die Schwerkranke in ihrer letzten Lebensphase begleiten. Dieser Kurs umfasst 36 Unterrichtsstunden. Die Kursteilnehmerinnen und Kursteilnehmer setzen sich intensiv mit Tod\, Verlust und Trauer auseinander und erhalten Anregungen für den Umgang und das Gespräch mit sterbenden Menschen. \nDas Angebot richtet sich an Frauen und Männer\, die im Angehörigen- oder Bekanntenkreis jemanden begleiten\, die sich für die Tätigkeit in einer Begleitgruppe vorbereiten möchten\, die im Pflege- und Sozialbereich beruflich tätig sind oder sich einfach für das Thema interessieren. \nDie Kursinhalte werden in erster Linie in Form von Plenumsunterricht und zusätzlich durch Gruppenarbeiten und Diskussionen in verschiedenen Gesprächsrunden vermittelt. \nLink zur Anmeldung  \nIn Kooperation mit Caritas Zürich. \nVeranstaltungsort\nPaulus Akademie\, Pfingstweidstrasse 28\, 8005 Zürich \nBemerkungen\nGrundkurs 24-2\, Juni-Juli 2024 – Daten:\njeweils Dienstag 9-12 und 13-16 Uhr: 04.06. / 11.06. / 18.06. / 25.06. / 02.07. / 09.07.2024 \nLeitung\nRegula Hagmann\, Soziokulturelle Animatorin/Gerontologin\, Fachstelle Begleitung in der letzten Lebensphase\, Caritas Zürich \nKosten\nCHF 960.-\n30% Reduktion für KulturLegi-Besitzende und Mitglieder Gönnerverein Paulus Akademie
URL:https://quartieragenda.qv5.ch/event/grundkurs-sterbebegleitung-menschen-begleiten-in-ihrer-letzten-lebensphase/2024-07-02/
LOCATION:Paulus Akademie\, Pfingstweidstrasse 28\, Zürich\, 8005\, Switzerland
CATEGORIES:Diverses,Kurs, Kreatives
ATTACH;FMTTYPE=image/jpeg:https://quartieragenda.qv5.ch/wp-content/uploads/2024/05/GK_Sterbebegleitung.jpg
ORGANIZER;CN="Paulus%20Akademie":MAILTO:info@paulusakademie.ch
END:VEVENT
BEGIN:VEVENT
DTSTART;TZID=Europe/Berlin:20240626T183000
DTEND;TZID=Europe/Berlin:20240626T200000
DTSTAMP:20260425T154657
CREATED:20240528T132827Z
LAST-MODIFIED:20240528T133010Z
UID:3276-1719426600-1719432000@quartieragenda.qv5.ch
SUMMARY:INTERKULTURALITÄT – MIGRATION – KIRCHE; Die Schweiz von einem Auswanderungs- zu einem Einwanderungsland
DESCRIPTION:Wenn Menschen mit unterschiedlichen kulturellen Prägungen aufeinandertreffen\, befinden sie sich immer in interkulturellen Spannungsfeldern. Diese ergeben sich aufgrund unterschiedlicher Wahrnehmungen und Verhaltensweisen in der gleichen Situation. \nBei bewusstem Arbeiten mit diesem «Inter-Kultur-Sein» geht man kreativ damit um\, hinterfragt\, entdeckt Potentiale\, Anknüpfungs­punkte und findet neue Lösungen. \nMigration\, die es seit dem Beginn der Mensch­heit immer in unterschiedlichen Prägungen gegeben hat\, ist eng mit Kultur und der Inter­kulturalität verbunden. Auf einer ganzheitlichen Ebene entdecken wir verschiedene Facetten der zwei interdependenten Gebiete. \nWir versuchen zu entdecken\, was unser Kulturverständnis prägt\, wie wir verschiedene Kulturen und Migrationsgründe wahrnehmen und was deren verborgenen Ursachen sein können. \nMI 29.5.2024\nGründe der irregulären Migration aus dem subsaharen Afrika\nDiese Gründe scheinen hinlänglich bekannt zu sein und werden von der Presse sowie von politischen Protagonisten aus verschiedenen Perspektiven behandelt. Diese Wahrnehmung entspricht westlichem Denken. Gibt es möglicherweise andere Gründe und Ansätze? \nMI 12.6.2024\nDie Schweiz – Von einem Auswanderungs- zu einem Einwanderungsland\nDiese historische Tatsache scheint in Vergessenheit geraten zu sein. Anhand von Beispielen wie Louis Chevrolet und dem Einfluss der Hugenotten beleuchten wir\, wie diese Wechselwirkung die Schweiz geprägt hat. \nMI 26.6.2024\nMultikulturalität in der Kirche – Chance oder Schwierigkeit?\nMultikulturalität sowie Migration gehören zur DNA des Christentums. Dreissig Prozent der Katholiken in der Schweiz haben Migrationshintergrund. Neben den Ortskirchen gibt es zahlreiche anderssprachige Missionen. Priester aus der ganzen Welt arbeiten bei der Katholischen Kirche. Auf welchen Ansätzen können wir für ein geschwisterliches Miteinander aufbauen? \nDie Seminare können gesamthaft oder einzeln besucht werden. \nLeitung\nMichael W. Büchi hat langjährige Erfahrung als ehemaliger Kaderbeamter des Staatssekretariats für Migration. Dort diente er unter anderem als Stv. Sektionschef Afrika sowie Migrationsattaché auf der Schweizer Vertretung in Angola. Weiter war er für die Schweizer Bischofskonferenz als Projektleiter Migrationspastoral tätig. Heute ist er Vize-Präsident der Kommission für Bildung und Soziales der römisch-katholischen Synode des Kantons Zürich. Als selbständiger Interkultureller Berater\, Mediator und Coach (www.buechi-intercultural.ch) berät er Unternehmen\, Institutionen sowie Führungskräfte. Mit Lehraufträgen gibt er seine Erfahrung und Wissen an die nachfolgende Generation weiter. \nKosten\nCHF 30.-/20.-* pro Veranstaltung\n* für Mitglieder Gönnerverein Paulus Akademie\, mit AHV/IV-\, KulturLegi- oder Studierenden-Ausweis \nVeranstaltungsort\nPaulus Akademie\, Pfingstweidstrasse 28\, 8005 Zürich
URL:https://quartieragenda.qv5.ch/event/interkulturalitaet-migration-kirche-die-schweiz-von-einem-auswanderungs-zu-einem-einwanderungsland/2024-06-26/
LOCATION:Paulus Akademie\, Pfingstweidstrasse 28\, Zürich\, 8005\, Switzerland
CATEGORIES:Diverses,Info Veranstaltung/Podium
ATTACH;FMTTYPE=image/jpeg:https://quartieragenda.qv5.ch/wp-content/uploads/2024/05/AdobeStock_ArtisanSamurai-scaled-1.jpg
ORGANIZER;CN="Paulus%20Akademie":MAILTO:info@paulusakademie.ch
END:VEVENT
BEGIN:VEVENT
DTSTART;TZID=Europe/Berlin:20240625T090000
DTEND;TZID=Europe/Berlin:20240625T160000
DTSTAMP:20260425T154657
CREATED:20240528T131454Z
LAST-MODIFIED:20240529T072208Z
UID:3268-1719306000-1719331200@quartieragenda.qv5.ch
SUMMARY:GRUNDKURS STERBEBEGLEITUNG – Menschen begleiten in ihrer letzten Lebensphase
DESCRIPTION:Caritas Zürich bietet einen Grundkurs an\, der Menschen ausbildet\, die Schwerkranke in ihrer letzten Lebensphase begleiten. Dieser Kurs umfasst 36 Unterrichtsstunden. Die Kursteilnehmerinnen und Kursteilnehmer setzen sich intensiv mit Tod\, Verlust und Trauer auseinander und erhalten Anregungen für den Umgang und das Gespräch mit sterbenden Menschen. \nDas Angebot richtet sich an Frauen und Männer\, die im Angehörigen- oder Bekanntenkreis jemanden begleiten\, die sich für die Tätigkeit in einer Begleitgruppe vorbereiten möchten\, die im Pflege- und Sozialbereich beruflich tätig sind oder sich einfach für das Thema interessieren. \nDie Kursinhalte werden in erster Linie in Form von Plenumsunterricht und zusätzlich durch Gruppenarbeiten und Diskussionen in verschiedenen Gesprächsrunden vermittelt. \nLink zur Anmeldung  \nIn Kooperation mit Caritas Zürich. \nVeranstaltungsort\nPaulus Akademie\, Pfingstweidstrasse 28\, 8005 Zürich \nBemerkungen\nGrundkurs 24-2\, Juni-Juli 2024 – Daten:\njeweils Dienstag 9-12 und 13-16 Uhr: 04.06. / 11.06. / 18.06. / 25.06. / 02.07. / 09.07.2024 \nLeitung\nRegula Hagmann\, Soziokulturelle Animatorin/Gerontologin\, Fachstelle Begleitung in der letzten Lebensphase\, Caritas Zürich \nKosten\nCHF 960.-\n30% Reduktion für KulturLegi-Besitzende und Mitglieder Gönnerverein Paulus Akademie
URL:https://quartieragenda.qv5.ch/event/grundkurs-sterbebegleitung-menschen-begleiten-in-ihrer-letzten-lebensphase/2024-06-25/
LOCATION:Paulus Akademie\, Pfingstweidstrasse 28\, Zürich\, 8005\, Switzerland
CATEGORIES:Diverses,Kurs, Kreatives
ATTACH;FMTTYPE=image/jpeg:https://quartieragenda.qv5.ch/wp-content/uploads/2024/05/GK_Sterbebegleitung.jpg
ORGANIZER;CN="Paulus%20Akademie":MAILTO:info@paulusakademie.ch
END:VEVENT
BEGIN:VEVENT
DTSTART;TZID=Europe/Berlin:20240618T090000
DTEND;TZID=Europe/Berlin:20240618T160000
DTSTAMP:20260425T154657
CREATED:20240528T131454Z
LAST-MODIFIED:20240529T072208Z
UID:3267-1718701200-1718726400@quartieragenda.qv5.ch
SUMMARY:GRUNDKURS STERBEBEGLEITUNG – Menschen begleiten in ihrer letzten Lebensphase
DESCRIPTION:Caritas Zürich bietet einen Grundkurs an\, der Menschen ausbildet\, die Schwerkranke in ihrer letzten Lebensphase begleiten. Dieser Kurs umfasst 36 Unterrichtsstunden. Die Kursteilnehmerinnen und Kursteilnehmer setzen sich intensiv mit Tod\, Verlust und Trauer auseinander und erhalten Anregungen für den Umgang und das Gespräch mit sterbenden Menschen. \nDas Angebot richtet sich an Frauen und Männer\, die im Angehörigen- oder Bekanntenkreis jemanden begleiten\, die sich für die Tätigkeit in einer Begleitgruppe vorbereiten möchten\, die im Pflege- und Sozialbereich beruflich tätig sind oder sich einfach für das Thema interessieren. \nDie Kursinhalte werden in erster Linie in Form von Plenumsunterricht und zusätzlich durch Gruppenarbeiten und Diskussionen in verschiedenen Gesprächsrunden vermittelt. \nLink zur Anmeldung  \nIn Kooperation mit Caritas Zürich. \nVeranstaltungsort\nPaulus Akademie\, Pfingstweidstrasse 28\, 8005 Zürich \nBemerkungen\nGrundkurs 24-2\, Juni-Juli 2024 – Daten:\njeweils Dienstag 9-12 und 13-16 Uhr: 04.06. / 11.06. / 18.06. / 25.06. / 02.07. / 09.07.2024 \nLeitung\nRegula Hagmann\, Soziokulturelle Animatorin/Gerontologin\, Fachstelle Begleitung in der letzten Lebensphase\, Caritas Zürich \nKosten\nCHF 960.-\n30% Reduktion für KulturLegi-Besitzende und Mitglieder Gönnerverein Paulus Akademie
URL:https://quartieragenda.qv5.ch/event/grundkurs-sterbebegleitung-menschen-begleiten-in-ihrer-letzten-lebensphase/2024-06-18/
LOCATION:Paulus Akademie\, Pfingstweidstrasse 28\, Zürich\, 8005\, Switzerland
CATEGORIES:Diverses,Kurs, Kreatives
ATTACH;FMTTYPE=image/jpeg:https://quartieragenda.qv5.ch/wp-content/uploads/2024/05/GK_Sterbebegleitung.jpg
ORGANIZER;CN="Paulus%20Akademie":MAILTO:info@paulusakademie.ch
END:VEVENT
BEGIN:VEVENT
DTSTART;TZID=Europe/Berlin:20240612T183000
DTEND;TZID=Europe/Berlin:20240612T200000
DTSTAMP:20260425T154657
CREATED:20240528T132827Z
LAST-MODIFIED:20240528T133010Z
UID:3275-1718217000-1718222400@quartieragenda.qv5.ch
SUMMARY:INTERKULTURALITÄT – MIGRATION – KIRCHE; Die Schweiz von einem Auswanderungs- zu einem Einwanderungsland
DESCRIPTION:Wenn Menschen mit unterschiedlichen kulturellen Prägungen aufeinandertreffen\, befinden sie sich immer in interkulturellen Spannungsfeldern. Diese ergeben sich aufgrund unterschiedlicher Wahrnehmungen und Verhaltensweisen in der gleichen Situation. \nBei bewusstem Arbeiten mit diesem «Inter-Kultur-Sein» geht man kreativ damit um\, hinterfragt\, entdeckt Potentiale\, Anknüpfungs­punkte und findet neue Lösungen. \nMigration\, die es seit dem Beginn der Mensch­heit immer in unterschiedlichen Prägungen gegeben hat\, ist eng mit Kultur und der Inter­kulturalität verbunden. Auf einer ganzheitlichen Ebene entdecken wir verschiedene Facetten der zwei interdependenten Gebiete. \nWir versuchen zu entdecken\, was unser Kulturverständnis prägt\, wie wir verschiedene Kulturen und Migrationsgründe wahrnehmen und was deren verborgenen Ursachen sein können. \nMI 29.5.2024\nGründe der irregulären Migration aus dem subsaharen Afrika\nDiese Gründe scheinen hinlänglich bekannt zu sein und werden von der Presse sowie von politischen Protagonisten aus verschiedenen Perspektiven behandelt. Diese Wahrnehmung entspricht westlichem Denken. Gibt es möglicherweise andere Gründe und Ansätze? \nMI 12.6.2024\nDie Schweiz – Von einem Auswanderungs- zu einem Einwanderungsland\nDiese historische Tatsache scheint in Vergessenheit geraten zu sein. Anhand von Beispielen wie Louis Chevrolet und dem Einfluss der Hugenotten beleuchten wir\, wie diese Wechselwirkung die Schweiz geprägt hat. \nMI 26.6.2024\nMultikulturalität in der Kirche – Chance oder Schwierigkeit?\nMultikulturalität sowie Migration gehören zur DNA des Christentums. Dreissig Prozent der Katholiken in der Schweiz haben Migrationshintergrund. Neben den Ortskirchen gibt es zahlreiche anderssprachige Missionen. Priester aus der ganzen Welt arbeiten bei der Katholischen Kirche. Auf welchen Ansätzen können wir für ein geschwisterliches Miteinander aufbauen? \nDie Seminare können gesamthaft oder einzeln besucht werden. \nLeitung\nMichael W. Büchi hat langjährige Erfahrung als ehemaliger Kaderbeamter des Staatssekretariats für Migration. Dort diente er unter anderem als Stv. Sektionschef Afrika sowie Migrationsattaché auf der Schweizer Vertretung in Angola. Weiter war er für die Schweizer Bischofskonferenz als Projektleiter Migrationspastoral tätig. Heute ist er Vize-Präsident der Kommission für Bildung und Soziales der römisch-katholischen Synode des Kantons Zürich. Als selbständiger Interkultureller Berater\, Mediator und Coach (www.buechi-intercultural.ch) berät er Unternehmen\, Institutionen sowie Führungskräfte. Mit Lehraufträgen gibt er seine Erfahrung und Wissen an die nachfolgende Generation weiter. \nKosten\nCHF 30.-/20.-* pro Veranstaltung\n* für Mitglieder Gönnerverein Paulus Akademie\, mit AHV/IV-\, KulturLegi- oder Studierenden-Ausweis \nVeranstaltungsort\nPaulus Akademie\, Pfingstweidstrasse 28\, 8005 Zürich
URL:https://quartieragenda.qv5.ch/event/interkulturalitaet-migration-kirche-die-schweiz-von-einem-auswanderungs-zu-einem-einwanderungsland/2024-06-12/
LOCATION:Paulus Akademie\, Pfingstweidstrasse 28\, Zürich\, 8005\, Switzerland
CATEGORIES:Diverses,Info Veranstaltung/Podium
ATTACH;FMTTYPE=image/jpeg:https://quartieragenda.qv5.ch/wp-content/uploads/2024/05/AdobeStock_ArtisanSamurai-scaled-1.jpg
ORGANIZER;CN="Paulus%20Akademie":MAILTO:info@paulusakademie.ch
END:VEVENT
BEGIN:VEVENT
DTSTART;TZID=Europe/Berlin:20240611T090000
DTEND;TZID=Europe/Berlin:20240611T160000
DTSTAMP:20260425T154657
CREATED:20240528T131454Z
LAST-MODIFIED:20240529T072208Z
UID:3266-1718096400-1718121600@quartieragenda.qv5.ch
SUMMARY:GRUNDKURS STERBEBEGLEITUNG – Menschen begleiten in ihrer letzten Lebensphase
DESCRIPTION:Caritas Zürich bietet einen Grundkurs an\, der Menschen ausbildet\, die Schwerkranke in ihrer letzten Lebensphase begleiten. Dieser Kurs umfasst 36 Unterrichtsstunden. Die Kursteilnehmerinnen und Kursteilnehmer setzen sich intensiv mit Tod\, Verlust und Trauer auseinander und erhalten Anregungen für den Umgang und das Gespräch mit sterbenden Menschen. \nDas Angebot richtet sich an Frauen und Männer\, die im Angehörigen- oder Bekanntenkreis jemanden begleiten\, die sich für die Tätigkeit in einer Begleitgruppe vorbereiten möchten\, die im Pflege- und Sozialbereich beruflich tätig sind oder sich einfach für das Thema interessieren. \nDie Kursinhalte werden in erster Linie in Form von Plenumsunterricht und zusätzlich durch Gruppenarbeiten und Diskussionen in verschiedenen Gesprächsrunden vermittelt. \nLink zur Anmeldung  \nIn Kooperation mit Caritas Zürich. \nVeranstaltungsort\nPaulus Akademie\, Pfingstweidstrasse 28\, 8005 Zürich \nBemerkungen\nGrundkurs 24-2\, Juni-Juli 2024 – Daten:\njeweils Dienstag 9-12 und 13-16 Uhr: 04.06. / 11.06. / 18.06. / 25.06. / 02.07. / 09.07.2024 \nLeitung\nRegula Hagmann\, Soziokulturelle Animatorin/Gerontologin\, Fachstelle Begleitung in der letzten Lebensphase\, Caritas Zürich \nKosten\nCHF 960.-\n30% Reduktion für KulturLegi-Besitzende und Mitglieder Gönnerverein Paulus Akademie
URL:https://quartieragenda.qv5.ch/event/grundkurs-sterbebegleitung-menschen-begleiten-in-ihrer-letzten-lebensphase/2024-06-11/
LOCATION:Paulus Akademie\, Pfingstweidstrasse 28\, Zürich\, 8005\, Switzerland
CATEGORIES:Diverses,Kurs, Kreatives
ATTACH;FMTTYPE=image/jpeg:https://quartieragenda.qv5.ch/wp-content/uploads/2024/05/GK_Sterbebegleitung.jpg
ORGANIZER;CN="Paulus%20Akademie":MAILTO:info@paulusakademie.ch
END:VEVENT
BEGIN:VEVENT
DTSTART;TZID=Europe/Berlin:20240604T090000
DTEND;TZID=Europe/Berlin:20240604T160000
DTSTAMP:20260425T154657
CREATED:20240528T131454Z
LAST-MODIFIED:20240529T072208Z
UID:3264-1717491600-1717516800@quartieragenda.qv5.ch
SUMMARY:GRUNDKURS STERBEBEGLEITUNG – Menschen begleiten in ihrer letzten Lebensphase
DESCRIPTION:Caritas Zürich bietet einen Grundkurs an\, der Menschen ausbildet\, die Schwerkranke in ihrer letzten Lebensphase begleiten. Dieser Kurs umfasst 36 Unterrichtsstunden. Die Kursteilnehmerinnen und Kursteilnehmer setzen sich intensiv mit Tod\, Verlust und Trauer auseinander und erhalten Anregungen für den Umgang und das Gespräch mit sterbenden Menschen. \nDas Angebot richtet sich an Frauen und Männer\, die im Angehörigen- oder Bekanntenkreis jemanden begleiten\, die sich für die Tätigkeit in einer Begleitgruppe vorbereiten möchten\, die im Pflege- und Sozialbereich beruflich tätig sind oder sich einfach für das Thema interessieren. \nDie Kursinhalte werden in erster Linie in Form von Plenumsunterricht und zusätzlich durch Gruppenarbeiten und Diskussionen in verschiedenen Gesprächsrunden vermittelt. \nLink zur Anmeldung  \nIn Kooperation mit Caritas Zürich. \nVeranstaltungsort\nPaulus Akademie\, Pfingstweidstrasse 28\, 8005 Zürich \nBemerkungen\nGrundkurs 24-2\, Juni-Juli 2024 – Daten:\njeweils Dienstag 9-12 und 13-16 Uhr: 04.06. / 11.06. / 18.06. / 25.06. / 02.07. / 09.07.2024 \nLeitung\nRegula Hagmann\, Soziokulturelle Animatorin/Gerontologin\, Fachstelle Begleitung in der letzten Lebensphase\, Caritas Zürich \nKosten\nCHF 960.-\n30% Reduktion für KulturLegi-Besitzende und Mitglieder Gönnerverein Paulus Akademie
URL:https://quartieragenda.qv5.ch/event/grundkurs-sterbebegleitung-menschen-begleiten-in-ihrer-letzten-lebensphase/2024-06-04/
LOCATION:Paulus Akademie\, Pfingstweidstrasse 28\, Zürich\, 8005\, Switzerland
CATEGORIES:Diverses,Info Veranstaltung/Podium,Kurs, Kreatives
ATTACH;FMTTYPE=image/jpeg:https://quartieragenda.qv5.ch/wp-content/uploads/2024/05/GK_Sterbebegleitung.jpg
ORGANIZER;CN="Paulus%20Akademie":MAILTO:info@paulusakademie.ch
END:VEVENT
BEGIN:VEVENT
DTSTART;TZID=Europe/Berlin:20240529T183000
DTEND;TZID=Europe/Berlin:20240529T200000
DTSTAMP:20260425T154657
CREATED:20240528T132827Z
LAST-MODIFIED:20240528T133010Z
UID:3273-1717007400-1717012800@quartieragenda.qv5.ch
SUMMARY:INTERKULTURALITÄT – MIGRATION – KIRCHE; Die Schweiz von einem Auswanderungs- zu einem Einwanderungsland
DESCRIPTION:Wenn Menschen mit unterschiedlichen kulturellen Prägungen aufeinandertreffen\, befinden sie sich immer in interkulturellen Spannungsfeldern. Diese ergeben sich aufgrund unterschiedlicher Wahrnehmungen und Verhaltensweisen in der gleichen Situation. \nBei bewusstem Arbeiten mit diesem «Inter-Kultur-Sein» geht man kreativ damit um\, hinterfragt\, entdeckt Potentiale\, Anknüpfungs­punkte und findet neue Lösungen. \nMigration\, die es seit dem Beginn der Mensch­heit immer in unterschiedlichen Prägungen gegeben hat\, ist eng mit Kultur und der Inter­kulturalität verbunden. Auf einer ganzheitlichen Ebene entdecken wir verschiedene Facetten der zwei interdependenten Gebiete. \nWir versuchen zu entdecken\, was unser Kulturverständnis prägt\, wie wir verschiedene Kulturen und Migrationsgründe wahrnehmen und was deren verborgenen Ursachen sein können. \nMI 29.5.2024\nGründe der irregulären Migration aus dem subsaharen Afrika\nDiese Gründe scheinen hinlänglich bekannt zu sein und werden von der Presse sowie von politischen Protagonisten aus verschiedenen Perspektiven behandelt. Diese Wahrnehmung entspricht westlichem Denken. Gibt es möglicherweise andere Gründe und Ansätze? \nMI 12.6.2024\nDie Schweiz – Von einem Auswanderungs- zu einem Einwanderungsland\nDiese historische Tatsache scheint in Vergessenheit geraten zu sein. Anhand von Beispielen wie Louis Chevrolet und dem Einfluss der Hugenotten beleuchten wir\, wie diese Wechselwirkung die Schweiz geprägt hat. \nMI 26.6.2024\nMultikulturalität in der Kirche – Chance oder Schwierigkeit?\nMultikulturalität sowie Migration gehören zur DNA des Christentums. Dreissig Prozent der Katholiken in der Schweiz haben Migrationshintergrund. Neben den Ortskirchen gibt es zahlreiche anderssprachige Missionen. Priester aus der ganzen Welt arbeiten bei der Katholischen Kirche. Auf welchen Ansätzen können wir für ein geschwisterliches Miteinander aufbauen? \nDie Seminare können gesamthaft oder einzeln besucht werden. \nLeitung\nMichael W. Büchi hat langjährige Erfahrung als ehemaliger Kaderbeamter des Staatssekretariats für Migration. Dort diente er unter anderem als Stv. Sektionschef Afrika sowie Migrationsattaché auf der Schweizer Vertretung in Angola. Weiter war er für die Schweizer Bischofskonferenz als Projektleiter Migrationspastoral tätig. Heute ist er Vize-Präsident der Kommission für Bildung und Soziales der römisch-katholischen Synode des Kantons Zürich. Als selbständiger Interkultureller Berater\, Mediator und Coach (www.buechi-intercultural.ch) berät er Unternehmen\, Institutionen sowie Führungskräfte. Mit Lehraufträgen gibt er seine Erfahrung und Wissen an die nachfolgende Generation weiter. \nKosten\nCHF 30.-/20.-* pro Veranstaltung\n* für Mitglieder Gönnerverein Paulus Akademie\, mit AHV/IV-\, KulturLegi- oder Studierenden-Ausweis \nVeranstaltungsort\nPaulus Akademie\, Pfingstweidstrasse 28\, 8005 Zürich
URL:https://quartieragenda.qv5.ch/event/interkulturalitaet-migration-kirche-die-schweiz-von-einem-auswanderungs-zu-einem-einwanderungsland/2024-05-29/
LOCATION:Paulus Akademie\, Pfingstweidstrasse 28\, Zürich\, 8005\, Switzerland
CATEGORIES:Diverses,Info Veranstaltung/Podium
ATTACH;FMTTYPE=image/jpeg:https://quartieragenda.qv5.ch/wp-content/uploads/2024/05/AdobeStock_ArtisanSamurai-scaled-1.jpg
ORGANIZER;CN="Paulus%20Akademie":MAILTO:info@paulusakademie.ch
END:VEVENT
END:VCALENDAR