BEGIN:VCALENDAR
VERSION:2.0
PRODID:-//Quartieragenda - ECPv5.14.2.1//NONSGML v1.0//EN
CALSCALE:GREGORIAN
METHOD:PUBLISH
X-WR-CALNAME:Quartieragenda
X-ORIGINAL-URL:https://quartieragenda.qv5.ch
X-WR-CALDESC:Events for Quartieragenda
REFRESH-INTERVAL;VALUE=DURATION:PT1H
X-Robots-Tag:noindex
X-PUBLISHED-TTL:PT1H
BEGIN:VTIMEZONE
TZID:Europe/Berlin
BEGIN:DAYLIGHT
TZOFFSETFROM:+0100
TZOFFSETTO:+0200
TZNAME:CEST
DTSTART:20260329T010000
END:DAYLIGHT
BEGIN:STANDARD
TZOFFSETFROM:+0200
TZOFFSETTO:+0100
TZNAME:CET
DTSTART:20261025T010000
END:STANDARD
END:VTIMEZONE
BEGIN:VEVENT
DTSTART;TZID=Europe/Berlin:20260114T183000
DTEND;TZID=Europe/Berlin:20260114T190000
DTSTAMP:20260426T012546
CREATED:20260109T151124Z
LAST-MODIFIED:20260109T151124Z
UID:6998-1768415400-1768417200@quartieragenda.qv5.ch
SUMMARY:Geister-Glaube: Vortrag und Diskussion
DESCRIPTION:Spukhäuser\, Nahtoderlebnisse und andere übernatürlich Phänomene ziehen Menschen seit jeher in ihren Bann. Über solche Gegebenheiten lässt sich wissenschaftlich nachdenken. Das werden wir an einem Vortrag mit dem Naturwissenschaftler und Philosophen Prof. Dr. Dr. Heiner Schwenke tun. Er beschäftigt sich seit Jahren mit personalen transzendenten Begegnungen und kann diese nüchtern und feinsinnig einordnen.
URL:https://quartieragenda.qv5.ch/event/geister-glaube-vortrag-und-diskussion/
LOCATION:Pfarrei St. Josef\, Röntgenstrasse 80\, 8005\, Zürich
CATEGORIES:Diverses
ATTACH;FMTTYPE=image/jpeg:https://quartieragenda.qv5.ch/wp-content/uploads/2026/01/Saul-und-die-Seherin.jpg
ORGANIZER;CN="Pfarrei%20St.%20Josef%20Z%C3%BCrich":MAILTO:st.josef@zh.kath.ch
END:VEVENT
END:VCALENDAR