BEGIN:VCALENDAR
VERSION:2.0
PRODID:-//Quartieragenda - ECPv5.14.2.1//NONSGML v1.0//EN
CALSCALE:GREGORIAN
METHOD:PUBLISH
X-WR-CALNAME:Quartieragenda
X-ORIGINAL-URL:https://quartieragenda.qv5.ch
X-WR-CALDESC:Events for Quartieragenda
REFRESH-INTERVAL;VALUE=DURATION:PT1H
X-Robots-Tag:noindex
X-PUBLISHED-TTL:PT1H
BEGIN:VTIMEZONE
TZID:Europe/Berlin
BEGIN:DAYLIGHT
TZOFFSETFROM:+0100
TZOFFSETTO:+0200
TZNAME:CEST
DTSTART:20250330T010000
END:DAYLIGHT
BEGIN:STANDARD
TZOFFSETFROM:+0200
TZOFFSETTO:+0100
TZNAME:CET
DTSTART:20251026T010000
END:STANDARD
END:VTIMEZONE
BEGIN:VEVENT
DTSTART;TZID=Europe/Berlin:20251220T170000
DTEND;TZID=Europe/Berlin:20251220T190000
DTSTAMP:20260426T022308
CREATED:20250818T143127Z
LAST-MODIFIED:20250818T143127Z
UID:6088-1766250000-1766257200@quartieragenda.qv5.ch
SUMMARY:Weihnachten auf der Josefwiese mit Herzfeuer
DESCRIPTION:Lass dich überraschen!
URL:https://quartieragenda.qv5.ch/event/weihnachten-auf-der-josefwiese-mit-herzfeuer/
ATTACH;FMTTYPE=image/jpeg:https://quartieragenda.qv5.ch/wp-content/uploads/2025/08/13125.jpg
END:VEVENT
BEGIN:VEVENT
DTSTART;TZID=Europe/Berlin:20251206T160000
DTEND;TZID=Europe/Berlin:20251206T200000
DTSTAMP:20260426T022308
CREATED:20250818T142907Z
LAST-MODIFIED:20250818T142907Z
UID:6085-1765036800-1765051200@quartieragenda.qv5.ch
SUMMARY:Samichlaus auf der Josefwiese
DESCRIPTION:Der Samichlaus kommt auf der Josefwiese vorbei!
URL:https://quartieragenda.qv5.ch/event/samichlaus-auf-der-josefwiese/
ATTACH;FMTTYPE=image/jpeg:https://quartieragenda.qv5.ch/wp-content/uploads/2025/08/IMG_1856.jpg
END:VEVENT
BEGIN:VEVENT
DTSTART;TZID=Europe/Berlin:20251130T140000
DTEND;TZID=Europe/Berlin:20251130T170000
DTSTAMP:20260426T022308
CREATED:20250321T123625Z
LAST-MODIFIED:20250321T123625Z
UID:5179-1764511200-1764522000@quartieragenda.qv5.ch
SUMMARY:HO HO HO Weihnachtsmarkt & Kerzenfärben
DESCRIPTION:Kleiner Weihnachtsmarkt mit einem Kerzenfärbstand
URL:https://quartieragenda.qv5.ch/event/ho-ho-ho-weihnachtsmarkt-kerzenfaerben/
LOCATION:Kiosk Josefwiese\, Josefstrasse 197\, Zürich\, 8005
CATEGORIES:Diverses
ATTACH;FMTTYPE=image/jpeg:https://quartieragenda.qv5.ch/wp-content/uploads/2025/03/Flyer.jpg
END:VEVENT
BEGIN:VEVENT
DTSTART;TZID=Europe/Berlin:20251129T130000
DTEND;TZID=Europe/Berlin:20251129T170000
DTSTAMP:20260426T022308
CREATED:20250321T122528Z
LAST-MODIFIED:20250321T122528Z
UID:5176-1764421200-1764435600@quartieragenda.qv5.ch
SUMMARY:Kerzenziehen
DESCRIPTION:Outdoor Kerzenziehen
URL:https://quartieragenda.qv5.ch/event/kerzenziehen-5/
LOCATION:Kiosk Josefwiese\, Josefstrasse 197\, Zürich\, 8005
CATEGORIES:60+,Kinder und Jugendliche,Kurs, Kreatives
ATTACH;FMTTYPE=image/jpeg:https://quartieragenda.qv5.ch/wp-content/uploads/2025/03/IMG_20221130_164207-scaled.jpg
END:VEVENT
BEGIN:VEVENT
DTSTART;TZID=Europe/Berlin:20251127T160000
DTEND;TZID=Europe/Berlin:20251127T190000
DTSTAMP:20260426T022308
CREATED:20250321T122340Z
LAST-MODIFIED:20250321T122340Z
UID:5173-1764259200-1764270000@quartieragenda.qv5.ch
SUMMARY:Kranzen
DESCRIPTION:Adventskranz binden
URL:https://quartieragenda.qv5.ch/event/kranzen/
LOCATION:Kiosk Josefwiese\, Josefstrasse 197\, Zürich\, 8005
CATEGORIES:Kurs, Kreatives
ATTACH;FMTTYPE=image/jpeg:https://quartieragenda.qv5.ch/wp-content/uploads/2025/03/Kranzen.jpeg
END:VEVENT
BEGIN:VEVENT
DTSTART;TZID=Europe/Berlin:20251126T133000
DTEND;TZID=Europe/Berlin:20251126T170000
DTSTAMP:20260426T022308
CREATED:20250321T122139Z
LAST-MODIFIED:20250321T122139Z
UID:5170-1764163800-1764176400@quartieragenda.qv5.ch
SUMMARY:Kerzenziehen
DESCRIPTION:Outdoor Kerzenziehen
URL:https://quartieragenda.qv5.ch/event/kerzenziehen-4/
LOCATION:Kiosk Josefwiese\, Josefstrasse 197\, Zürich\, 8005
CATEGORIES:60+,Kinder und Jugendliche,Kurs, Kreatives
ATTACH;FMTTYPE=image/jpeg:https://quartieragenda.qv5.ch/wp-content/uploads/2025/03/IMG_20221130_151823-scaled.jpg
END:VEVENT
BEGIN:VEVENT
DTSTART;TZID=Europe/Berlin:20251101T180000
DTEND;TZID=Europe/Berlin:20251101T190000
DTSTAMP:20260426T022308
CREATED:20250321T121945Z
LAST-MODIFIED:20250321T121945Z
UID:5167-1762020000-1762023600@quartieragenda.qv5.ch
SUMMARY:Räbelichtli Umzug
DESCRIPTION:Umzug durch das Quartier
URL:https://quartieragenda.qv5.ch/event/raebelichtli-umzug-2/
LOCATION:Kiosk Josefwiese\, Josefstrasse 197\, Zürich\, 8005
CATEGORIES:Familien,Fest,Gemeinsames Singen,Kinder 5-12 Jahre
ATTACH;FMTTYPE=image/jpeg:https://quartieragenda.qv5.ch/wp-content/uploads/2025/03/IMG_8585.jpg
END:VEVENT
BEGIN:VEVENT
DTSTART;TZID=Europe/Berlin:20251101T180000
DTEND;TZID=Europe/Berlin:20251101T180000
DTSTAMP:20260426T022308
CREATED:20250119T155933Z
LAST-MODIFIED:20250119T155933Z
UID:4717-1762020000-1762020000@quartieragenda.qv5.ch
SUMMARY:Räbeliechtli 2025
DESCRIPTION:Kinder und Eltern sind herzlich zum Räbeliechtli-Umzug eingeladen – im Inneren Kreis 5 und in Zürich-West – mit stimmigem Abschluss beim Kiosk Josefwiese.
URL:https://quartieragenda.qv5.ch/event/raebeliechtli-2025/
LOCATION:Limmat Schulhaus (Seite Klingenpark)\, Limmatastrasse 65\, Zürich\, 8005
CATEGORIES:Familien
ORGANIZER;CN="Quartierverein%205%20Industrie":MAILTO:info@chreis5.info
END:VEVENT
END:VCALENDAR