BEGIN:VCALENDAR
VERSION:2.0
PRODID:-//Quartieragenda - ECPv5.14.2.1//NONSGML v1.0//EN
CALSCALE:GREGORIAN
METHOD:PUBLISH
X-WR-CALNAME:Quartieragenda
X-ORIGINAL-URL:https://quartieragenda.qv5.ch
X-WR-CALDESC:Events for Quartieragenda
REFRESH-INTERVAL;VALUE=DURATION:PT1H
X-Robots-Tag:noindex
X-PUBLISHED-TTL:PT1H
BEGIN:VTIMEZONE
TZID:Europe/Berlin
BEGIN:DAYLIGHT
TZOFFSETFROM:+0100
TZOFFSETTO:+0200
TZNAME:CEST
DTSTART:20260329T010000
END:DAYLIGHT
BEGIN:STANDARD
TZOFFSETFROM:+0200
TZOFFSETTO:+0100
TZNAME:CET
DTSTART:20261025T010000
END:STANDARD
END:VTIMEZONE
BEGIN:VEVENT
DTSTART;VALUE=DATE:20260410
DTEND;VALUE=DATE:20260901
DTSTAMP:20260424T164224
CREATED:20260417T181202Z
LAST-MODIFIED:20260417T181202Z
UID:7719-1775779200-1788220799@quartieragenda.qv5.ch
SUMMARY:Kunst-Installation "Es ist nicht alles Gold was glänzt"
DESCRIPTION:Ein schwarzer Ikosaederstumpf mit einem Durchmesser von 122\,5 cm bildet das Zentrum dieser Lichtinstallation.\nDurch die Wechselwirkung von warm- und kaltweissem Licht verwandeln sich einzelne Flächen\nje nach Blickwinkel in schimmerndes Gold oder Silber \nDie Installation fordert die Betrachtenden auf\, durch eigene Bewegung die Grenzen\nzwischen tiefem Schwarz und metallischem Glanz zu erkunden und so den Materialwechsel physisch zu erleben.\nwww.farblichtzentrum.ch
URL:https://quartieragenda.qv5.ch/event/kunst-installation-es-ist-nicht-alles-gold-was-glaenzt/
CATEGORIES:Ausstellung
ATTACH;FMTTYPE=image/jpeg:https://quartieragenda.qv5.ch/wp-content/uploads/2026/04/monoc-small.jpg
ORGANIZER;CN="Zollhaus%20Forum%2C%20Zollstrasse%20121":MAILTO:verein.zollhaus@bluewin.ch
END:VEVENT
END:VCALENDAR