BEGIN:VCALENDAR
VERSION:2.0
PRODID:-//Quartieragenda - ECPv5.14.2.1//NONSGML v1.0//EN
CALSCALE:GREGORIAN
METHOD:PUBLISH
X-WR-CALNAME:Quartieragenda
X-ORIGINAL-URL:https://quartieragenda.qv5.ch
X-WR-CALDESC:Events for Quartieragenda
REFRESH-INTERVAL;VALUE=DURATION:PT1H
X-Robots-Tag:noindex
X-PUBLISHED-TTL:PT1H
BEGIN:VTIMEZONE
TZID:Europe/Berlin
BEGIN:DAYLIGHT
TZOFFSETFROM:+0100
TZOFFSETTO:+0200
TZNAME:CEST
DTSTART:20250330T010000
END:DAYLIGHT
BEGIN:STANDARD
TZOFFSETFROM:+0200
TZOFFSETTO:+0100
TZNAME:CET
DTSTART:20251026T010000
END:STANDARD
BEGIN:DAYLIGHT
TZOFFSETFROM:+0100
TZOFFSETTO:+0200
TZNAME:CEST
DTSTART:20260329T010000
END:DAYLIGHT
BEGIN:STANDARD
TZOFFSETFROM:+0200
TZOFFSETTO:+0100
TZNAME:CET
DTSTART:20261025T010000
END:STANDARD
END:VTIMEZONE
BEGIN:VEVENT
DTSTART;TZID=Europe/Berlin:20251123T110000
DTEND;TZID=Europe/Berlin:20251123T180000
DTSTAMP:20260425T135436
CREATED:20251020T071626Z
LAST-MODIFIED:20251020T071626Z
UID:6588-1763895600-1763920800@quartieragenda.qv5.ch
SUMMARY:Familientag im Löwenbräukunst
DESCRIPTION:Ein Tag für alle!\nEin buntes Programm\, bei dem Kreativität und Spass im Mittelpunkt stehen: Und das alles begleitet von viel Kunst! Merken Sie sich den Termin vor und bringen Sie die ganze Familie\, Freunde\, Grosseltern und Spielkameraden mit – wir freuen uns auf einen wunderbaren Tag voller Kreativität und gemeinsamer Erlebnisse! \nWorkshops und Rundgänge für Teilnehmende aller Altersgruppen finden im Migros Museum für Gestaltung\, Bistro LOI\, Museum Haus Konstruktiv bei der Edition VFO und in der Galerie Hauser & Wirth statt. In der Kunsthalle Zürich bieten wir den Sonderworkshop «Glitterglocken und Schneegestöber» an! \n15–17 Uhr: Glitterglocken und Schneegestöber!\nKunsthalle Zürich / Studio Kunsthalle Zürich\nAuf Grund der grossen Nachfrage letztes Jahr gibt es nun 4 Slots à 30 Minuten\, jeweils für max. 15 Personen:\n15.00–15.30\, 15.30–16.00\, 16.00–16.30 und 16.30–17.00 Uhr \nKennst Du die Schneekugeln\, die beim Schütteln eine kleine Welt in Schneegestöber hüllen? Im Studio der Kunsthalle Zürich kannst Du eine eigene\, freche Version davon machen – mit ganz viel Glitzer und eigenen Motiven. Du kannst dich selber mit Fotos in einem Glitzersturm verewigen\, oder andere Dinge\, welche gegen den Winterblues helfen. Motive in Passfotogrösse bitte selber mitnehmen. \nAb 6 Jahren\nAnmeldung: kids [​at​] kunsthallezurich.ch\nBitte unbedingt angeben: Slot-Nummer (1–4)\, Anzahl Personen und Namen \nVollständiges Programm im Löwenbräukunst: https://www.lowenbraukunst.ch/de/events/familientag-im-loewenbraeukunst-ein-tag-fuer-alle
URL:https://quartieragenda.qv5.ch/event/familientag-im-loewenbraeukunst/
LOCATION:Löwenbräukunst\, Limmatstrasse 268&270\, Zürich\, Zürich\, 8005\, Switzerland
CATEGORIES:Familien
ATTACH;FMTTYPE=image/jpeg:https://quartieragenda.qv5.ch/wp-content/uploads/2025/10/2025-09-25-lk_familientag_banner.jpg
ORGANIZER;CN="L%26ouml%3Bwenbr%26auml%3Bukunst":MAILTO:info@lowenbraukunst.ch
END:VEVENT
BEGIN:VEVENT
DTSTART;TZID=Europe/Berlin:20260113T180000
DTEND;TZID=Europe/Berlin:20260113T213000
DTSTAMP:20260425T135436
CREATED:20251221T212454Z
LAST-MODIFIED:20251221T212454Z
UID:6948-1768327200-1768339800@quartieragenda.qv5.ch
SUMMARY:VISIO - Moving Images in Europe since the 2010s   CINELöwenbräukunst x Kunsthalle Zürich x Migros Museum für Gegenwartskunst
DESCRIPTION:Screening und Buchpräsentation\, veranstaltet von der Kunsthalle Zürich und dem Migros Museum für Gegenwartskunst\, mit Leonardo Bigazzi\, Herausgeber\, Kurator und Produzent von Künstler:innenfilmen\, Florenz; Fanny Hauser\, Direktorin Kunsthalle Zürich; und Yasmin Naderi Afschar\, Co-Leiterin Migros Museum für Gegenwartskunst\nDas Migros Museum für Gegenwartskunst und die Kunsthalle Zürich zeigen drei Künstler:innenfilme: Bliss Point (2023) von Gerard Ortín Castellví\, Razeh-del (2024) von Maryam Tafakory und Look On the Bright Side (2023) von Yuyan Wang. Im Anschluss an die Screenings spricht der Kurator Leonardo Bigazzi über zehn Jahre Produktion von Künstler:innenfilmen in Europa und präsentiert die Publikation VISIO: Moving Images in Europe Since the 2010s. \nSeit vierzehn Jahren funktioniert VISIO – European Programme on Artists’ Moving Images\, organisiert von Lo schermo dell’arte in Florenz\, als Residency- und Forschungsplattform\, die den Dialog\, Austausch von Methodiken und Begegnungen zwischen aufstrebenden Künstler:innen fördert. Im Jahr 2022 wurde das Programm durch die Einführung des VISIO Production Fund erweitert\, der junge\, in Europa ansässige Künstler:nnen unterstützt\, die mit Bewegtbild arbeiten. Das Screening zeigt drei Filme\, die durch diesen Fonds entstanden sind – und gewährt Einblicke in das wachsende Archiv von VISIO sowie in die vielfältigen Herangehensweisen von Künstler:innen an das Medium des bewegten Bildes heute. \nDiese filmischen Arbeiten bieten einen Einstiegspunkt in die Publikation VISIO: Moving Images in Europe Since the 2010s. Herausgegeben von Leonardo Bigazzi\, versammelt das Buch Visionen\, Erfahrungen und kritische interdisziplinäre Methoden\, die die Sprache der bewegten Bilder seit 2010 geprägt haben. Es enthält neue Essays und Gespräche\, die die technologischen und formalen Transformationen reflektieren\, die von einer Generation digital-nativer Künstler:innen eingeführt wurden\, und baut auf den gemeinsamen Prozessen auf\, die während der ersten zwölf Ausgaben des Programms entwickelt wurden. \nIn englischer Sprache\nDas Screening und die Präsentation finden im schwarzescafé\, 1.OG Löwenbräukunst\, statt.
URL:https://quartieragenda.qv5.ch/event/visio-moving-images-in-europe-since-the-2010s-cineloewenbraeukunst-x-kunsthalle-zuerich-x-migros-museum-fuer-gegenwartskunst/
LOCATION:Löwenbräukunst\, Limmatstrasse 268&270\, Zürich\, Zürich\, 8005\, Switzerland
CATEGORIES:Diverses,Konzert, Theater, Kino
ATTACH;FMTTYPE=image/png:https://quartieragenda.qv5.ch/wp-content/uploads/2025/12/Maryam_Tafakory_film_still.png
ORGANIZER;CN="Migros%20Museum%20f%26uuml%3Br%20Gegenwartskunst":MAILTO:info@migrosmuseum.ch
END:VEVENT
BEGIN:VEVENT
DTSTART;TZID=Europe/Berlin:20260226T180000
DTEND;TZID=Europe/Berlin:20260226T193000
DTSTAMP:20260425T135436
CREATED:20260125T192507Z
LAST-MODIFIED:20260125T193609Z
UID:7142-1772128800-1772134200@quartieragenda.qv5.ch
SUMMARY:Art Walk West
DESCRIPTION:18:00 – Museum Haus Konstruktiv\, Limmatstrasse 268\, EG (Treffpunkt)\n18:30 – Kunsthalle Zürich\, Limmatstrasse 270\n19:00 – Galerie Nicola von Senger\, Limmatstrasse 275\nDie Tour wird begleitet von Aoife Rosenmeyer\, Kunsthalle Zurich. \nÜber den Art Walk West: \nJeden letzten Donnerstag im Monat bietet der Art Walk West einen Rundgang durch verschiedene Kunst-\, Kultur- und Ausstellungsräume im Kreis 5 (Zürich West). Der Art Walk West ist ein Gemeinschaftsprojekt mehrerer Galerien\, Kunsträume und Museen im Stadtteil Zürich West. Lanciert wurde die Initiative vom Löwenbräukunst – Art Center.
URL:https://quartieragenda.qv5.ch/event/art-walk-west-2/
LOCATION:Löwenbräukunst\, Limmatstrasse 268&270\, Zürich\, Zürich\, 8005\, Switzerland
CATEGORIES:Führung
ATTACH;FMTTYPE=image/png:https://quartieragenda.qv5.ch/wp-content/uploads/2026/01/LK_Art_Walk_West_34_1080x1350_02-scaled.png
ORGANIZER;CN="Kunsthalle%20Z%C3%BCrich":MAILTO:info@kunsthallezurich.ch
END:VEVENT
BEGIN:VEVENT
DTSTART;TZID=Europe/Berlin:20260321T110000
DTEND;TZID=Europe/Berlin:20260321T180000
DTSTAMP:20260425T135436
CREATED:20260125T193443Z
LAST-MODIFIED:20260311T055002Z
UID:7157-1774090800-1774116000@quartieragenda.qv5.ch
SUMMARY:Löwenbräukunst Offenes Haus
DESCRIPTION:Wir laden Sie herzlich zum Löwenbräukunst Offenes Haus ein. Im Mittelpunkt der Veranstaltung stehen Ausstellungsrundgänge in 11 verschiedenen Sprachen. Eingeladene Kunstvermittler:innen präsentieren persönliche Highlights aus den aktuellen Ausstellungen und führen die Rundgänge in ihrer jeweiligen Muttersprache durch. Wir heissen Sie herzlich willkommen zu Rundgängen auf Portugiesisch\, Spanisch\, Ukrainisch\, Russisch\, Kantonesisch\, Italienisch\, Arabisch\, Englisch und Tamilisch\, sowie einem inklusiven Rundgang. Neu gibt es Rundgänge in Serbo-Kroatisch und Albanisch\, als auch einen Architektur- und Geschichte-Rundgang.\nNeben den Rundgängen erwartet Sie ein abwechslungsreiches Programm: Das Team des Studio Kunsthalle Zürich bietet am Nachmittag im schwarzescafé / Luma Westbau den Malzeit-Workshop an. Zudem gibt es eine Tanzperformance in Kollaboration mit Studierenden der Zürcher Hochschule der Künste\, einen Drop-in-Papier- und Skulpturen-Workshop sowie eine Roundtable-Diskussion. \nBesuchen Sie die Ausstellungen und das Programm im Haus\, mit Kunsthalle Zürich\, Hauser & Wirth\, schwarzescafé / Luma Westbau\, Migros Museum für Gegenwartskunst\, Museum Haus Konstruktiv\, Edition VFO und Bistro LOI. \nAlle sind willkommen! Alle Ausstellungen und Veranstaltungen sind kostenlos. Eine Anmeldung ist nicht erforderlich. \nDas Programm-Flyer \n11.30–12.15 Uhr\nArchitektur- und Geschichtsrundgang\nLöwenbräukunst \n11.45–12.45 Uhr\nRundgang auf Englisch mit Zsazsa Demeter\nMuseum Haus Konstruktiv \n12–17 Uhr\nAusstellungsrundgänge in verschiedenen Sprachen\nEine Initiative der Kunsthalle Zürich\nTreffpunkt: Foyer\, Limmatstrasse 270 \n12 Uhr: In albanischer Sprache mit Artan Islamaj\n12.30 Uhr: In arabischer Sprache mit Malek Ossi\n13 Uhr: In englischer Sprache mit Aoife Rosenmeyer\n13.30 Uhr: In italienischer Sprache mit Pietro Vitali\n14 Uhr: In tamilischer Sprache mit Swassthi Sivasanmukanathasarma\n14.30 Uhr: In ukrainischer Sprache mit Olena Iegorova\n15 Uhr: In portugiesischer Sprache mit Duarte Perry\n15 Uhr: In englischer Sprache mit Aoife Rosenmeyer\n15.30 Uhr: In russischer Sprache mit Polina Kröning\n16 Uhr: In bosnischer\, kroatischer\, montenegrinischer und serbischer Sprache mit Vladislava Savić\n16.30 Uhr: In spanischer Sprache mit Karina Torres\n17 Uhr: In kantonesischer Sprache und mit Mandarin mit Sharon Chan \n14–15 Uhr\nRundgang Gemeinsam anders\nMuseum Haus Konstruktiv \n14–17 Uhr\nMalzeit-Workshop im schwarzescafé\nKunsthalle Zürich\nDrücken Sie Ihre Gedanken\, Wünsche und Gefühle mit verschiedenen Stiften auf unserem extra langen Maltisch aus! Wir haben einen Fotodrucker vor Ort\, mit dem Sie Ihren Lieblingsausschnitt ablichten und mitnehmen können. Wir freuen uns auf Sie! \n14–17 Uhr\nDrop In Papier- und Skulpturen-Workshop im schwarzescafé\nMigros Museum für Gegenwartskunst \n15–16.30 Uhr\nCanopy Sessions: Solidarität mit Black Stammtisch\nMigros Museum für Gegenwartskunst \n16.30–17.30 Uhr\nPerformance von ZHdK-Studierenden der Bildenden Künste\nHauser & Wirth
URL:https://quartieragenda.qv5.ch/event/loewenbraeukunst-offenes-haus/
LOCATION:Löwenbräukunst\, Limmatstrasse 268&270\, Zürich\, Zürich\, 8005\, Switzerland
CATEGORIES:Diverses,Familien,Fest
ATTACH;FMTTYPE=image/jpeg:https://quartieragenda.qv5.ch/wp-content/uploads/2026/01/LK_5042025_9_2-scaled.jpg
END:VEVENT
END:VCALENDAR